Workbook

Sheet Utama
A1: NO | B1: NAMA | C1: Pertanyaan (First Tier) | W1: Jumlah | X1: Alasan (Third Tier) | AR1: Jumlah
C2: BUTIR SOAL | X2: BUTIR SOAL
C3: 1 | D3: 2 | E3: 3 | F3: 4 | G3: 5 | H3: 6 | I3: 7 | J3: 8 | K3: 9 | L3: 10 | M3: 11 | N3: 12 | O3: 13 | P3: 14 | Q3: 15 | R3: 16 | S3: 17 | T3: 18 | U3: 19 | V3: 20 | X3: 1 | Y3: 2 | Z3: 3 | AA3: 4 | AB3: 5 | AC3: 6 | AD3: 7 | AE3: 8 | AF3: 9 | AG3: 10 | AH3: 11 | AI3: 12 | AJ3: 13 | AK3: 14 | AL3: 15 | AM3: 16 | AN3: 17 | AO3: 18 | AP3: 19 | AQ3: 20
A4: 1 | B4: AISYAH HIDAYAT | C4: 1 | D4: 1 | E4: 1 | F4: 1 | G4: 1 | H4: 1 | I4: 1 | J4: 1 | K4: 1 | L4: 0 | M4: 1 | N4: 0 | O4: 1 | P4: 0 | Q4: 0 | R4: 0 | S4: 1 | T4: 1 | U4: 0 | V4: 0 | W4: =SUM(C4:V4) -> 13 | X4: 1 | Y4: 0 | Z4: 1 | AA4: 1 | AB4: 0 | AC4: 1 | AD4: 1 | AE4: 1 | AF4: 1 | AG4: 0 | AH4: 1 | AI4: 0 | AJ4: 1 | AK4: 1 | AL4: 1 | AM4: 0 | AN4: 1 | AO4: 1 | AP4: 1 | AQ4: 0 | AR4: =SUM(X4:AQ4) -> 14
A5: 2 | B5: AMELIA FITRIANI | C5: 1 | D5: 1 | E5: 1 | F5: 1 | G5: 1 | H5: 1 | I5: 1 | J5: 0 | K5: 1 | L5: 0 | M5: 1 | N5: 0 | O5: 1 | P5: 0 | Q5: 0 | R5: 0 | S5: 1 | T5: 1 | U5: 0 | V5: 0 | W5: =SUM(C5:V5) -> 12 | X5: 1 | Y5: 0 | Z5: 0 | AA5: 1 | AB5: 0 | AC5: 0 | AD5: 0 | AE5: 0 | AF5: 1 | AG5: 0 | AH5: 0 | AI5: 0 | AJ5: 0 | AK5: 1 | AL5: 1 | AM5: 0 | AN5: 0 | AO5: 1 | AP5: 0 | AQ5: 0 | AR5: =SUM(X5:AQ5) -> 6
A6: 3 | B6: ANISA RAHIMA T. | C6: 1 | D6: 1 | E6: 1 | F6: 1 | G6: 1 | H6: 1 | I6: 0 | J6: 1 | K6: 1 | L6: 1 | M6: 1 | N6: 0 | O6: 1 | P6: 0 | Q6: 0 | R6: 1 | S6: 1 | T6: 1 | U6: 0 | V6: 0 | W6: =SUM(C6:V6) -> 14 | X6: 1 | Y6: 1 | Z6: 1 | AA6: 1 | AB6: 1 | AC6: 1 | AD6: 0 | AE6: 0 | AF6: 1 | AG6: 0 | AH6: 1 | AI6: 0 | AJ6: 1 | AK6: 1 | AL6: 1 | AM6: 0 | AN6: 1 | AO6: 0 | AP6: 1 | AQ6: 0 | AR6: =SUM(X6:AQ6) -> 13
A7: 4 | B7: AZMAL ANUGRAH CAHYADITAMA | C7: 0 | D7: 0 | E7: 0 | F7: 0 | G7: 1 | H7: 1 | I7: 0 | J7: 0 | K7: 0 | L7: 1 | M7: 0 | N7: 0 | O7: 0 | P7: 1 | Q7: 0 | R7: 0 | S7: 0 | T7: 0 | U7: 0 | V7: 0 | W7: =SUM(C7:V7) -> 4 | X7: 0 | Y7: 0 | Z7: 1 | AA7: 0 | AB7: 0 | AC7: 1 | AD7: 0 | AE7: 1 | AF7: 0 | AG7: 1 | AH7: 0 | AI7: 1 | AJ7: 0 | AK7: 1 | AL7: 1 | AM7: 0 | AN7: 0 | AO7: 1 | AP7: 0 | AQ7: 0 | AR7: =SUM(X7:AQ7) -> 8
A8: 5 | B8: AZMIL ANUGRAH CAHYADITAMA | C8: 1 | D8: 0 | E8: 0 | F8: 0 | G8: 1 | H8: 1 | I8: 0 | J8: 1 | K8: 0 | L8: 1 | M8: 0 | N8: 0 | O8: 0 | P8: 1 | Q8: 1 | R8: 1 | S8: 0 | T8: 0 | U8: 0 | V8: 1 | W8: =SUM(C8:V8) -> 9 | X8: 0 | Y8: 0 | Z8: 0 | AA8: 0 | AB8: 0 | AC8: 0 | AD8: 1 | AE8: 1 | AF8: 0 | AG8: 1 | AH8: 0 | AI8: 0 | AJ8: 0 | AK8: 0 | AL8: 1 | AM8: 0 | AN8: 0 | AO8: 1 | AP8: 1 | AQ8: 1 | AR8: =SUM(X8:AQ8) -> 7
A9: 6 | B9: CECILIA LUTHFIYANA | C9: 1 | D9: 1 | E9: 1 | F9: 0 | G9: 1 | H9: 1 | I9: 0 | J9: 1 | K9: 0 | L9: 0 | M9: 0 | N9: 0 | O9: 1 | P9: 0 | Q9: 0 | R9: 0 | S9: 0 | T9: 1 | U9: 0 | V9: 0 | W9: =SUM(C9:V9) -> 8 | X9: 1 | Y9: 1 | Z9: 1 | AA9: 1 | AB9: 0 | AC9: 0 | AD9: 1 | AE9: 0 | AF9: 0 | AG9: 0 | AH9: 1 | AI9: 1 | AJ9: 0 | AK9: 0 | AL9: 0 | AM9: 0 | AN9: 0 | AO9: 0 | AP9: 1 | AQ9: 0 | AR9: =SUM(X9:AQ9) -> 8
A10: 7 | B10: FACHRUR RAZY KUSNAIDI | C10: 1 | D10: 1 | E10: 1 | F10: 1 | G10: 1 | H10: 1 | I10: 1 | J10: 1 | K10: 0 | L10: 0 | M10: 1 | N10: 0 | O10: 1 | P10: 1 | Q10: 1 | R10: 1 | S10: 0 | T10: 1 | U10: 0 | V10: 1 | W10: =SUM(C10:V10) -> 15 | X10: 1 | Y10: 1 | Z10: 1 | AA10: 1 | AB10: 1 | AC10: 1 | AD10: 1 | AE10: 1 | AF10: 1 | AG10: 1 | AH10: 1 | AI10: 1 | AJ10: 1 | AK10: 1 | AL10: 1 | AM10: 1 | AN10: 0 | AO10: 1 | AP10: 1 | AQ10: 1 | AR10: =SUM(X10:AQ10) -> 19
A11: 8 | B11: FAJRUL ASYIDIQI SYAFITRA | C11: 1 | D11: 0 | E11: 0 | F11: 0 | G11: 1 | H11: 1 | I11: 0 | J11: 0 | K11: 0 | L11: 1 | M11: 0 | N11: 0 | O11: 0 | P11: 1 | Q11: 1 | R11: 0 | S11: 0 | T11: 0 | U11: 0 | V11: 1 | W11: =SUM(C11:V11) -> 7 | X11: 0 | Y11: 0 | Z11: 0 | AA11: 0 | AB11: 0 | AC11: 1 | AD11: 1 | AE11: 0 | AF11: 0 | AG11: 1 | AH11: 0 | AI11: 0 | AJ11: 0 | AK11: 0 | AL11: 1 | AM11: 1 | AN11: 0 | AO11: 1 | AP11: 1 | AQ11: 1 | AR11: =SUM(X11:AQ11) -> 8
A12: 9 | B12: FANNY NIKEN PRATIWI | C12: 1 | D12: 1 | E12: 1 | F12: 1 | G12: 1 | H12: 1 | I12: 1 | J12: 1 | K12: 1 | L12: 0 | M12: 1 | N12: 0 | O12: 1 | P12: 0 | Q12: 1 | R12: 0 | S12: 1 | T12: 1 | U12: 1 | V12: 0 | W12: =SUM(C12:V12) -> 15 | X12: 1 | Y12: 0 | Z12: 1 | AA12: 1 | AB12: 0 | AC12: 1 | AD12: 0 | AE12: 1 | AF12: 1 | AG12: 0 | AH12: 1 | AI12: 0 | AJ12: 1 | AK12: 1 | AL12: 1 | AM12: 1 | AN12: 1 | AO12: 1 | AP12: 1 | AQ12: 0 | AR12: =SUM(X12:AQ12) -> 14
A13: 10 | B13: FHABELLA WIE GASYANDI | C13: 1 | D13: 1 | E13: 1 | F13: 1 | G13: 1 | H13: 1 | I13: 1 | J13: 1 | K13: 1 | L13: 0 | M13: 1 | N13: 0 | O13: 1 | P13: 0 | Q13: 1 | R13: 1 | S13: 1 | T13: 1 | U13: 1 | V13: 1 | W13: =SUM(C13:V13) -> 17 | X13: 0 | Y13: 0 | Z13: 1 | AA13: 1 | AB13: 0 | AC13: 0 | AD13: 0 | AE13: 1 | AF13: 1 | AG13: 0 | AH13: 1 | AI13: 0 | AJ13: 0 | AK13: 0 | AL13: 0 | AM13: 0 | AN13: 0 | AO13: 1 | AP13: 1 | AQ13: 1 | AR13: =SUM(X13:AQ13) -> 8
A14: 11 | B14: HAYATUL KHAIRIN | C14: 1 | D14: 1 | E14: 1 | F14: 1 | G14: 1 | H14: 1 | I14: 1 | J14: 0 | K14: 1 | L14: 0 | M14: 1 | N14: 0 | O14: 1 | P14: 0 | Q14: 0 | R14: 1 | S14: 1 | T14: 1 | U14: 0 | V14: 0 | W14: =SUM(C14:V14) -> 13 | X14: 1 | Y14: 0 | Z14: 0 | AA14: 0 | AB14: 0 | AC14: 0 | AD14: 0 | AE14: 0 | AF14: 1 | AG14: 0 | AH14: 0 | AI14: 0 | AJ14: 0 | AK14: 1 | AL14: 0 | AM14: 0 | AN14: 1 | AO14: 1 | AP14: 0 | AQ14: 0 | AR14: =SUM(X14:AQ14) -> 5
A15: 12 | B15: KEMUNING INDAH LESTARI | C15: 0 | D15: 1 | E15: 1 | F15: 0 | G15: 1 | H15: 1 | I15: 0 | J15: 0 | K15: 0 | L15: 1 | M15: 0 | N15: 0 | O15: 0 | P15: 0 | Q15: 1 | R15: 0 | S15: 0 | T15: 0 | U15: 0 | V15: 0 | W15: =SUM(C15:V15) -> 6 | X15: 1 | Y15: 1 | Z15: 1 | AA15: 1 | AB15: 0 | AC15: 1 | AD15: 0 | AE15: 0 | AF15: 0 | AG15: 0 | AH15: 0 | AI15: 0 | AJ15: 0 | AK15: 0 | AL15: 0 | AM15: 1 | AN15: 0 | AO15: 0 | AP15: 1 | AQ15: 0 | AR15: =SUM(X15:AQ15) -> 7
... A33: 30 | B33: YORA YOSELVIRA PUTRI | C33: 1 | D33: 1 | E33: 1 | F33: 1 | G33: 0 | H33: 1 | I33: 1 | J33: 0 | K33: 1 | L33: 0 | M33: 1 | N33: 0 | O33: 1 | P33: 0 | Q33: 1 | R33: 1 | S33: 1 | T33: 1 | U33: 0 | V33: 0 | W33: =SUM(C33:V33) -> 13 | X33: 1 | Y33: 1 | Z33: 1 | AA33: 0 | AB33: 1 | AC33: 0 | AD33: 0 | AE33: 1 | AF33: 1 | AG33: 0 | AH33: 1 | AI33: 0 | AJ33: 0 | AK33: 1 | AL33: 1 | AM33: 1 | AN33: 0 | AO33: 1 | AP33: 1 | AQ33: 1 | AR33: =SUM(X33:AQ33) -> 13
A34: TOTAL | C34: =SUM(C4:C33) -> 28 | D34: =SUM(D4:D33) -> 23 | E34: =SUM(E4:E33) -> 22 | F34: =SUM(F4:F33) -> 21 | G34: =SUM(G4:G33) -> 28 | H34: =SUM(H4:H33) -> 28 | I34: =SUM(I4:I33) -> 16 | J34: =SUM(J4:J33) -> 18 | ... V34: =SUM(V4:V33) -> 9 | X34: =SUM(X4:X33) -> 21 | Y34: =SUM(Y4:Y33) -> 16 | Z34: =SUM(Z4:Z33) -> 19 | AA34: =SUM(AA4:AA33) -> 20 | AB34: =SUM(AB4:AB33) -> 14 | AC34: =SUM(AC4:AC33) -> 14 | AD34: =SUM(AD4:AD33) -> 15 | AE34: =SUM(AE4:AE33) -> 17 | ... AQ34: =SUM(AQ4:AQ33) -> 13

Sheet (01) Validitas
A2: Testee | B2: Butir Soal | V2: Skor Total
B3: 1 | C3: 2 | D3: 3 | E3: 4 | F3: 5 | G3: 6 | H3: 7 | I3: 8 | J3: 9 | K3: 10 | L3: 11 | M3: 12 | N3: 13 | O3: 14 | P3: 15 | Q3: 16 | R3: 17 | S3: 18 | T3: 19 | U3: 20 | V3: X
A4: 1 | B4: 1 | C4: 1 | D4: 1 | E4: 1 | F4: 1 | G4: 1 | H4: 1 | I4: 1 | J4: 1 | K4: 0 | L4: 1 | M4: 0 | N4: 1 | O4: 0 | P4: 0 | Q4: 0 | R4: 1 | S4: 1 | T4: 0 | U4: 0 | V4: =SUM(B4:U4) -> 13 | W4: =V4^2 -> 169
A5: 2 | B5: 1 | C5: 1 | D5: 1 | E5: 1 | F5: 1 | G5: 1 | H5: 1 | I5: 0 | J5: 1 | K5: 0 | L5: 1 | M5: 0 | N5: 1 | O5: 0 | P5: 0 | Q5: 0 | R5: 1 | S5: 1 | T5: 0 | U5: 0 | V5: =SUM(B5:U5) -> 12 | W5: =V5^2 -> 144
A6: 3 | B6: 1 | C6: 1 | D6: 1 | E6: 1 | F6: 1 | G6: 1 | H6: 0 | I6: 1 | J6: 1 | K6: 1 | L6: 1 | M6: 0 | N6: 1 | O6: 0 | P6: 0 | Q6: 1 | R6: 1 | S6: 1 | T6: 0 | U6: 0 | V6: =SUM(B6:U6) -> 14 | W6: =V6^2 -> 196
A7: 4 | B7: 0 | C7: 0 | D7: 0 | E7: 0 | F7: 1 | G7: 1 | H7: 0 | I7: 0 | J7: 0 | K7: 1 | L7: 0 | M7: 0 | N7: 0 | O7: 1 | P7: 0 | Q7: 0 | R7: 0 | S7: 0 | T7: 0 | U7: 0 | V7: =SUM(B7:U7) -> 4 | W7: =V7^2 -> 16
A8: 5 | B8: 1 | C8: 0 | D8: 0 | E8: 0 | F8: 1 | G8: 1 | H8: 0 | I8: 1 | J8: 0 | K8: 1 | L8: 0 | M8: 0 | N8: 0 | O8: 1 | P8: 1 | Q8: 1 | R8: 0 | S8: 0 | T8: 0 | U8: 1 | V8: =SUM(B8:U8) -> 9 | W8: =V8^2 -> 81
A9: 6 | B9: 1 | C9: 1 | D9: 1 | E9: 0 | F9: 1 | G9: 1 | H9: 0 | I9: 1 | J9: 0 | K9: 0 | L9: 0 | M9: 0 | N9: 1 | O9: 0 | P9: 0 | Q9: 0 | R9: 0 | S9: 1 | T9: 0 | U9: 0 | V9: =SUM(B9:U9) -> 8 | W9: =V9^2 -> 64
A10: 7 | B10: 1 | C10: 1 | D10: 1 | E10: 1 | F10: 1 | G10: 1 | H10: 1 | I10: 1 | J10: 0 | K10: 0 | L10: 1 | M10: 0 | N10: 1 | O10: 1 | P10: 1 | Q10: 1 | R10: 0 | S10: 1 | T10: 0 | U10: 1 | V10: =SUM(B10:U10) -> 15 | W10: =V10^2 -> 225
A11: 8 | B11: 1 | C11: 0 | D11: 0 | E11: 0 | F11: 1 | G11: 1 | H11: 0 | I11: 0 | J11: 0 | K11: 1 | L11: 0 | M11: 0 | N11: 0 | O11: 1 | P11: 1 | Q11: 0 | R11: 0 | S11: 0 | T11: 0 | U11: 1 | V11: =SUM(B11:U11) -> 7 | W11: =V11^2 -> 49
A12: 9 | B12: 1 | C12: 1 | D12: 1 | E12: 1 | F12: 1 | G12: 1 | H12: 1 | I12: 1 | J12: 1 | K12: 0 | L12: 1 | M12: 0 | N12: 1 | O12: 0 | P12: 1 | Q12: 0 | R12: 1 | S12: 1 | T12: 1 | U12: 0 | V12: =SUM(B12:U12) -> 15 | W12: =V12^2 -> 225
A13: 10 | B13: 1 | C13: 1 | D13: 1 | E13: 1 | F13: 1 | G13: 1 | H13: 1 | I13: 1 | J13: 1 | K13: 0 | L13: 1 | M13: 0 | N13: 1 | O13: 0 | P13: 1 | Q13: 1 | R13: 1 | S13: 1 | T13: 1 | U13: 1 | V13: =SUM(B13:U13) -> 17 | W13: =V13^2 -> 289
A14: 11 | B14: 1 | C14: 1 | D14: 1 | E14: 1 | F14: 1 | G14: 1 | H14: 1 | I14: 0 | J14: 1 | K14: 0 | L14: 1 | M14: 0 | N14: 1 | O14: 0 | P14: 0 | Q14: 1 | R14: 1 | S14: 1 | T14: 0 | U14: 0 | V14: =SUM(B14:U14) -> 13 | W14: =V14^2 -> 169
A15: 12 | B15: 0 | C15: 1 | D15: 1 | E15: 0 | F15: 1 | G15: 1 | H15: 0 | I15: 0 | J15: 0 | K15: 1 | L15: 0 | M15: 0 | N15: 0 | O15: 0 | P15: 1 | Q15: 0 | R15: 0 | S15: 0 | T15: 0 | U15: 0 | V15: =SUM(B15:U15) -> 6 | W15: =V15^2 -> 36
... A33: 30 | B33: 1 | C33: 1 | D33: 1 | E33: 1 | F33: 0 | G33: 1 | H33: 1 | I33: 0 | J33: 1 | K33: 0 | L33: 1 | M33: 0 | N33: 1 | O33: 0 | P33: 1 | Q33: 1 | R33: 1 | S33: 1 | T33: 0 | U33: 0 | V33: =SUM(B33:U33) -> 13 | W33: =V33^2 -> 169
A34: Ʃ | B34: =SUM(B4:B33) -> 28 | C34: =SUM(C4:C33) -> 23 | D34: =SUM(D4:D33) -> 22 | E34: =SUM(E4:E33) -> 21 | F34: =SUM(F4:F33) -> 28 | G34: =SUM(G4:G33) -> 28 | H34: =SUM(H4:H33) -> 16 | I34: =SUM(I4:I33) -> 18 | ... W34: =SUM(W4:W33) -> 4525
A35: p | B35: =B34/30 -> 0.93333333 | C35: =C34/30 -> 0.76666667 | D35: =D34/30 -> 0.73333333 | E35: =E34/30 -> 0.7 | F35: =F34/30 -> 0.93333333 | G35: =G34/30 -> 0.93333333 | H35: =H34/30 -> 0.53333333 | I35: =I34/30 -> 0.6 | ... U35: =U34/30 -> 0.3
A36: q | B36: =1-B35 -> 0.066666667 | C36: =1-C35 -> 0.23333333 | D36: =1-D35 -> 0.26666667 | E36: =1-E35 -> 0.3 | F36: =1-F35 -> 0.066666667 | G36: =1-G35 -> 0.066666667 | H36: =1-H35 -> 0.46666667 | I36: =1-I35 -> 0.4 | ... U36: =1-U35 -> 0.7
A37: Mp | B37: =SUMIF(B4:B33,1, $V$4:$V$33)/B34 -> 12.178571 | C37: =SUMIF(C4:C33,1, $V$4:$V$33)/C34 -> 13.043478 | D37: =SUMIF(D4:D33,1, $V$4:$V$33)/D34 -> 13.136364 | E37: =SUMIF(E4:E33,1, $V$4:$V$33)/E34 -> 13.761905 | F37: =SUMIF(F4:F33,1, $V$4:$V$33)/F34 -> 11.892857 | G37: =SUMIF(G4:G33,1, $V$4:$V$33)/G34 -> 12.071429 | H37: =SUMIF(H4:H33,1, $V$4:$V$33)/H34 -> 13.9375 | I37: =SUMIF(I4:I33,1, $V$4:$V$33)/I34 -> 12.944444 | ... U37: =SUMIF(U4:U33,1, $V$4:$V$33)/U34 -> 13.888889
A38: Mt | B38: =V34/30 -> 11.7
A39: St | B39: =SQRT(((W34/30)-((V34/30)^2))) -> 3.7340773
A40: r tabel | B40: 0.361
A41: r pbi | B41: =(B37-$B$38)/$B$39*SQRT(B35/B36) -> 0.47954292 | C41: =(((C37-$B$38)/$B$39)*SQRT(C35/C36)) -> 0.65217213 | D41: =(((D37-$B$38)/$B$39)*SQRT(D35/D36)) -> 0.63789242 | E41: =(((E37-$B$38)/$B$39)*SQRT(E35/E36)) -> 0.84347786 | F41: =(((F37-$B$38)/$B$39)*SQRT(F35/F36)) -> 0.19324864 | G41: =(((G37-$B$38)/$B$39)*SQRT(G35/G36)) -> 0.37218256 | H41: =(((H37-$B$38)/$B$39)*SQRT(H35/H36)) -> 0.64058345 | I41: =(((I37-$B$38)/$B$39)*SQRT(I35/I36)) -> 0.40816695 | J41: =(((J37-$B$38)/$B$39)*SQRT(J35/J36)) -> 0.47341466 | ... U41: =(((U37-$B$38)/$B$39)*SQRT(U35/U36)) -> 0.38375321
A42: Kriteria | B42: =IF(B41>=$B$40,"Valid","Invalid") -> Valid | C42: =IF(C41>=$B$40,"Valid","Invalid") -> Valid | D42: =IF(D41>=$B$40,"Valid","Invalid") -> Valid | E42: =IF(E41>=$B$40,"Valid","Invalid") -> Valid | F42: =IF(F41>=$B$40,"Valid","Invalid") -> Invalid | G42: =IF(G41>=$B$40,"Valid","Invalid") -> Valid | H42: =IF(H41>=$B$40,"Valid","Invalid") -> Valid | I42: =IF(I41>=$B$40,"Valid","Invalid") -> Valid | ... U42: =IF(U41>=$B$40,"Valid","Invalid") -> Valid
A43: Rumus Lansung | B43: =CORREL(B4:B33,$V$4:$V$33) -> 0.47954292 | C43: =CORREL(C4:C33,$V$4:$V$33) -> 0.65217213 | D43: =CORREL(D4:D33,$V$4:$V$33) -> 0.63789242 | E43: =CORREL(E4:E33,$V$4:$V$33) -> 0.84347786 | F43: =CORREL(F4:F33,$V$4:$V$33) -> 0.19324864 | G43: =CORREL(G4:G33,$V$4:$V$33) -> 0.37218256 | H43: =CORREL(H4:H33,$V$4:$V$33) -> 0.64058345 | I43: =CORREL(I4:I33,$V$4:$V$33) -> 0.40816695 | ... U43: =CORREL(U4:U33,$V$4:$V$33) -> 0.38375321
B44: =IF(B43>=$B$40,"Valid","Invalid") -> Valid | C44: =IF(C43>=$B$40,"Valid","Invalid") -> Valid | D44: =IF(D43>=$B$40,"Valid","Invalid") -> Valid | E44: =IF(E43>=$B$40,"Valid","Invalid") -> Valid | F44: =IF(F43>=$B$40,"Valid","Invalid") -> Invalid | G44: =IF(G43>=$B$40,"Valid","Invalid") -> Valid | H44: =IF(H43>=$B$40,"Valid","Invalid") -> Valid | I44: =IF(I43>=$B$40,"Valid","Invalid") -> Valid | ... U44: =IF(U43>=$B$40,"Valid","Invalid") -> Valid
B45: 1 | C45: 2 | D45: 3 | E45: 4 | F45: 5 | G45: 6 | H45: 7 | I45: 8 | J45: 9 | K45: 10 | L45: 11 | M45: 12 | N45: 13 | O45: 14 | P45: 15 | Q45: 16 | R45: 17 | S45: 18 | T45: 19 | U45: 20

Sheet (01) Reliabilitas
A3: Testee | B3: Soal Ganjil (X) | C3: Soal Genap (Y) | F3: XY | H3: Testee | I3: Butir Soal
A4: 1 | B4: =I5+K5+M5+O5+Q5+S5+U5+W5+Y5+AA5 -> 8 | C4: =J5+L5+N5+P5+R5+T5+V5+X5+Z5+AB5 -> 5 | D4: =B4^2 -> 64 | E4: =C4^2 -> 25 | F4: =B4*C4 -> 40 | I4: 1 | J4: 2 | K4: 3 | L4: 4 | M4: 5 | N4: 6 | O4: 7 | P4: 8 | Q4: 9 | R4: 10 | S4: 11 | T4: 12 | U4: 13 | V4: 14 | W4: 15 | X4: 16 | Y4: 17 | Z4: 18 | AA4: 19 | AB4: 20
A5: 2 | B5: =I6+K6+M6+O6+Q6+S6+U6+W6+Y6+AA6 -> 8 | C5: =J6+L6+N6+P6+R6+T6+V6+X6+Z6+AB6 -> 4 | D5: =B5^2 -> 64 | E5: =C5^2 -> 16 | F5: =B5*C5 -> 32 | H5: 1 | I5: 1 | J5: 1 | K5: 1 | L5: 1 | M5: 1 | N5: 1 | O5: 1 | P5: 1 | Q5: 1 | R5: 0 | S5: 1 | T5: 0 | U5: 1 | V5: 0 | W5: 0 | X5: 0 | Y5: 1 | Z5: 1 | AA5: 0 | AB5: 0
A6: 3 | B6: =I7+K7+M7+O7+Q7+S7+U7+W7+Y7+AA7 -> 7 | C6: =J7+L7+N7+P7+R7+T7+V7+X7+Z7+AB7 -> 7 | D6: =B6^2 -> 49 | E6: =C6^2 -> 49 | F6: =B6*C6 -> 49 | H6: 2 | I6: 1 | J6: 1 | K6: 1 | L6: 1 | M6: 1 | N6: 1 | O6: 1 | P6: 0 | Q6: 1 | R6: 0 | S6: 1 | T6: 0 | U6: 1 | V6: 0 | W6: 0 | X6: 0 | Y6: 1 | Z6: 1 | AA6: 0 | AB6: 0
A7: 4 | B7: =I8+K8+M8+O8+Q8+S8+U8+W8+Y8+AA8 -> 1 | C7: =J8+L8+N8+P8+R8+T8+V8+X8+Z8+AB8 -> 3 | D7: =B7^2 -> 1 | E7: =C7^2 -> 9 | F7: =B7*C7 -> 3 | H7: 3 | I7: 1 | J7: 1 | K7: 1 | L7: 1 | M7: 1 | N7: 1 | O7: 0 | P7: 1 | Q7: 1 | R7: 1 | S7: 1 | T7: 0 | U7: 1 | V7: 0 | W7: 0 | X7: 1 | Y7: 1 | Z7: 1 | AA7: 0 | AB7: 0
A8: 5 | B8: =I9+K9+M9+O9+Q9+S9+U9+W9+Y9+AA9 -> 3 | C8: =J9+L9+N9+P9+R9+T9+V9+X9+Z9+AB9 -> 6 | D8: =B8^2 -> 9 | E8: =C8^2 -> 36 | F8: =B8*C8 -> 18 | H8: 4 | I8: 0 | J8: 0 | K8: 0 | L8: 0 | M8: 1 | N8: 1 | O8: 0 | P8: 0 | Q8: 0 | R8: 1 | S8: 0 | T8: 0 | U8: 0 | V8: 1 | W8: 0 | X8: 0 | Y8: 0 | Z8: 0 | AA8: 0 | AB8: 0
A9: 6 | B9: =I10+K10+M10+O10+Q10+S10+U10+W10+Y10+AA10 -> 4 | C9: =J10+L10+N10+P10+R10+T10+V10+X10+Z10+AB10 -> 4 | D9: =B9^2 -> 16 | E9: =C9^2 -> 16 | F9: =B9*C9 -> 16 | H9: 5 | I9: 1 | J9: 0 | K9: 0 | L9: 0 | M9: 1 | N9: 1 | O9: 0 | P9: 1 | Q9: 0 | R9: 1 | S9: 0 | T9: 0 | U9: 0 | V9: 1 | W9: 1 | X9: 1 | Y9: 0 | Z9: 0 | AA9: 0 | AB9: 1
A10: 7 | B10: =I11+K11+M11+O11+Q11+S11+U11+W11+Y11+AA11 -> 7 | C10: =J11+L11+N11+P11+R11+T11+V11+X11+Z11+AB11 -> 8 | D10: =B10^2 -> 49 | E10: =C10^2 -> 64 | F10: =B10*C10 -> 56 | H10: 6 | I10: 1 | J10: 1 | K10: 1 | L10: 0 | M10: 1 | N10: 1 | O10: 0 | P10: 1 | Q10: 0 | R10: 0 | S10: 0 | T10: 0 | U10: 1 | V10: 0 | W10: 0 | X10: 0 | Y10: 0 | Z10: 1 | AA10: 0 | AB10: 0
A11: 8 | B11: =I12+K12+M12+O12+Q12+S12+U12+W12+Y12+AA12 -> 3 | C11: =J12+L12+N12+P12+R12+T12+V12+X12+Z12+AB12 -> 4 | D11: =B11^2 -> 9 | E11: =C11^2 -> 16 | F11: =B11*C11 -> 12 | H11: 7 | I11: 1 | J11: 1 | K11: 1 | L11: 1 | M11: 1 | N11: 1 | O11: 1 | P11: 1 | Q11: 0 | R11: 0 | S11: 1 | T11: 0 | U11: 1 | V11: 1 | W11: 1 | X11: 1 | Y11: 0 | Z11: 1 | AA11: 0 | AB11: 1
A12: 9 | B12: =I13+K13+M13+O13+Q13+S13+U13+W13+Y13+AA13 -> 10 | C12: =J13+L13+N13+P13+R13+T13+V13+X13+Z13+AB13 -> 5 | D12: =B12^2 -> 100 | E12: =C12^2 -> 25 | F12: =B12*C12 -> 50 | H12: 8 | I12: 1 | J12: 0 | K12: 0 | L12: 0 | M12: 1 | N12: 1 | O12: 0 | P12: 0 | Q12: 0 | R12: 1 | S12: 0 | T12: 0 | U12: 0 | V12: 1 | W12: 1 | X12: 0 | Y12: 0 | Z12: 0 | AA12: 0 | AB12: 1
A13: 10 | B13: =I14+K14+M14+O14+Q14+S14+U14+W14+Y14+AA14 -> 10 | C13: =J14+L14+N14+P14+R14+T14+V14+X14+Z14+AB14 -> 7 | D13: =B13^2 -> 100 | E13: =C13^2 -> 49 | F13: =B13*C13 -> 70 | H13: 9 | I13: 1 | J13: 1 | K13: 1 | L13: 1 | M13: 1 | N13: 1 | O13: 1 | P13: 1 | Q13: 1 | R13: 0 | S13: 1 | T13: 0 | U13: 1 | V13: 0 | W13: 1 | X13: 0 | Y13: 1 | Z13: 1 | AA13: 1 | AB13: 0
A14: 11 | B14: =I15+K15+M15+O15+Q15+S15+U15+W15+Y15+AA15 -> 8 | C14: =J15+L15+N15+P15+R15+T15+V15+X15+Z15+AB15 -> 5 | D14: =B14^2 -> 64 | E14: =C14^2 -> 25 | F14: =B14*C14 -> 40 | H14: 10 | I14: 1 | J14: 1 | K14: 1 | L14: 1 | M14: 1 | N14: 1 | O14: 1 | P14: 1 | Q14: 1 | R14: 0 | S14: 1 | T14: 0 | U14: 1 | V14: 0 | W14: 1 | X14: 1 | Y14: 1 | Z14: 1 | AA14: 1 | AB14: 1
A15: 12 | B15: =I16+K16+M16+O16+Q16+S16+U16+W16+Y16+AA16 -> 3 | C15: =J16+L16+N16+P16+R16+T16+V16+X16+Z16+AB16 -> 3 | D15: =B15^2 -> 9 | E15: =C15^2 -> 9 | F15: =B15*C15 -> 9 | H15: 11 | I15: 1 | J15: 1 | K15: 1 | L15: 1 | M15: 1 | N15: 1 | O15: 1 | P15: 0 | Q15: 1 | R15: 0 | S15: 1 | T15: 0 | U15: 1 | V15: 0 | W15: 0 | X15: 1 | Y15: 1 | Z15: 1 | AA15: 0 | AB15: 0
A16: 13 | B16: =I17+K17+M17+O17+Q17+S17+U17+W17+Y17+AA17 -> 5 | C16: =J17+L17+N17+P17+R17+T17+V17+X17+Z17+AB17 -> 5 | D16: =B16^2 -> 25 | E16: =C16^2 -> 25 | F16: =B16*C16 -> 25 | H16: 12 | I16: 0 | J16: 1 | K16: 1 | L16: 0 | M16: 1 | N16: 1 | O16: 0 | P16: 0 | Q16: 0 | R16: 1 | S16: 0 | T16: 0 | U16: 0 | V16: 0 | W16: 1 | X16: 0 | Y16: 0 | Z16: 0 | AA16: 0 | AB16: 0
... A33: 30 | B33: =I34+K34+M34+O34+Q34+S34+U34+W34+Y34+AA34 -> 8 | C33: =J34+L34+N34+P34+R34+T34+V34+X34+Z34+AB34 -> 5 | D33: =B33^2 -> 64 | E33: =C33^2 -> 25 | F33: =B33*C33 -> 40 | H33: 29 | I33: 1 | J33: 1 | K33: 1 | L33: 1 | M33: 1 | N33: 1 | O33: 1 | P33: 1 | Q33: 1 | R33: 1 | S33: 1 | T33: 0 | U33: 1 | V33: 0 | W33: 1 | X33: 0 | Y33: 1 | Z33: 1 | AA33: 0 | AB33: 0
A34: Ʃ | B34: =SUM(B4:B33) -> 190 | C34: =SUM(C4:C33) -> 161 | D34: =SUM(D4:D33) -> 1388 | E34: =SUM(E4:E33) -> 957 | F34: =SUM(F4:F33) -> 1090 | H34: 30 | I34: 1 | J34: 1 | K34: 1 | L34: 1 | M34: 0 | N34: 1 | O34: 1 | P34: 0 | Q34: 1 | R34: 0 | S34: 1 | T34: 0 | U34: 1 | V34: 0 | W34: 1 | X34: 1 | Y34: 1 | Z34: 1 | AA34: 0 | AB34: 0
B35: =(((36*F34)-(B34*C34))/(SQRT(((36*D34)-(B34^2))*((36*E34)-(C34^2))))) -> 0.79526015
B36: =((2*B35)/(1+B35)) -> 0.88595533
A37: Kriteria | B37: Sangat Tinggi

Sheet (01) Daya Beda
A1: Kelompok Pintar
A2: Testee | B2: Butir Soal | V2: Skor Total
B3: 1 | C3: 2 | D3: 3 | E3: 4 | F3: 5 | G3: 6 | H3: 7 | I3: 8 | J3: 9 | K3: 10 | L3: 11 | M3: 12 | N3: 13 | O3: 14 | P3: 15 | Q3: 16 | R3: 17 | S3: 18 | T3: 19 | U3: 20
A4: 21 | B4: 1 | C4: 1 | D4: 1 | E4: 1 | F4: 1 | G4: 1 | H4: 1 | I4: 1 | J4: 1 | K4: 0 | L4: 1 | M4: 1 | N4: 1 | O4: 1 | P4: 1 | Q4: 1 | R4: 1 | S4: 1 | T4: 0 | U4: 1 | V4: =SUM(B4:U4) -> 18
A5: 10 | B5: 1 | C5: 1 | D5: 1 | E5: 1 | F5: 1 | G5: 1 | H5: 1 | I5: 1 | J5: 1 | K5: 0 | L5: 1 | M5: 0 | N5: 1 | O5: 0 | P5: 1 | Q5: 1 | R5: 1 | S5: 1 | T5: 1 | U5: 1 | V5: =SUM(B5:U5) -> 17
A6: 16 | B6: 1 | C6: 1 | D6: 1 | E6: 1 | F6: 1 | G6: 1 | H6: 1 | I6: 1 | J6: 0 | K6: 0 | L6: 1 | M6: 1 | N6: 1 | O6: 1 | P6: 1 | Q6: 1 | R6: 1 | S6: 1 | T6: 0 | U6: 1 | V6: =SUM(B6:U6) -> 17
A7: 7 | B7: 1 | C7: 1 | D7: 1 | E7: 1 | F7: 1 | G7: 1 | H7: 1 | I7: 1 | J7: 0 | K7: 0 | L7: 1 | M7: 0 | N7: 1 | O7: 1 | P7: 1 | Q7: 1 | R7: 0 | S7: 1 | T7: 0 | U7: 1 | V7: =SUM(B7:U7) -> 15
A8: 9 | B8: 1 | C8: 1 | D8: 1 | E8: 1 | F8: 1 | G8: 1 | H8: 1 | I8: 1 | J8: 1 | K8: 0 | L8: 1 | M8: 0 | N8: 1 | O8: 0 | P8: 1 | Q8: 0 | R8: 1 | S8: 1 | T8: 1 | U8: 0 | V8: =SUM(B8:U8) -> 15
A9: 18 | B9: 1 | C9: 1 | D9: 1 | E9: 1 | F9: 1 | G9: 1 | H9: 0 | I9: 1 | J9: 1 | K9: 1 | L9: 1 | M9: 0 | N9: 1 | O9: 1 | P9: 0 | Q9: 0 | R9: 1 | S9: 1 | T9: 0 | U9: 1 | V9: =SUM(B9:U9) -> 15
A10: 24 | B10: 1 | C10: 1 | D10: 1 | E10: 1 | F10: 1 | G10: 1 | H10: 1 | I10: 1 | J10: 1 | K10: 0 | L10: 1 | M10: 0 | N10: 1 | O10: 0 | P10: 1 | Q10: 1 | R10: 1 | S10: 1 | T10: 0 | U10: 0 | V10: =SUM(B10:U10) -> 15
A11: 29 | B11: 1 | C11: 1 | D11: 1 | E11: 1 | F11: 1 | G11: 1 | H11: 1 | I11: 1 | J11: 1 | K11: 1 | L11: 1 | M11: 0 | N11: 1 | O11: 0 | P11: 1 | Q11: 0 | R11: 1 | S11: 1 | T11: 0 | U11: 0 | V11: =SUM(B11:U11) -> 15
A12: 3 | B12: 1 | C12: 1 | D12: 1 | E12: 1 | F12: 1 | G12: 1 | H12: 0 | I12: 1 | J12: 1 | K12: 1 | L12: 1 | M12: 0 | N12: 1 | O12: 0 | P12: 0 | Q12: 1 | R12: 1 | S12: 1 | T12: 0 | U12: 0 | V12: =SUM(B12:U12) -> 14
A13: 14 | B13: 1 | C13: 1 | D13: 1 | E13: 1 | F13: 1 | G13: 1 | H13: 0 | I13: 1 | J13: 1 | K13: 1 | L13: 1 | M13: 0 | N13: 0 | O13: 1 | P13: 1 | Q13: 0 | R13: 1 | S13: 1 | T13: 0 | U13: 0 | V13: =SUM(B13:U13) -> 14
A14: 22 | B14: 1 | C14: 1 | D14: 1 | E14: 1 | F14: 1 | G14: 1 | H14: 1 | I14: 1 | J14: 1 | K14: 0 | L14: 0 | M14: 0 | N14: 1 | O14: 0 | P14: 1 | Q14: 0 | R14: 0 | S14: 1 | T14: 1 | U14: 1 | V14: =SUM(B14:U14) -> 14
A15: 1 | B15: 1 | C15: 1 | D15: 1 | E15: 1 | F15: 1 | G15: 1 | H15: 1 | I15: 1 | J15: 1 | K15: 0 | L15: 1 | M15: 0 | N15: 1 | O15: 0 | P15: 0 | Q15: 0 | R15: 1 | S15: 1 | T15: 0 | U15: 0 | V15: =SUM(B15:U15) -> 13
... A18: 20 | B18: 1 | C18: 1 | D18: 0 | E18: 1 | F18: 1 | G18: 1 | H18: 1 | I18: 1 | J18: 1 | K18: 0 | L18: 1 | M18: 0 | N18: 1 | O18: 1 | P18: 0 | Q18: 1 | R18: 1 | S18: 0 | T18: 0 | U18: 0 | V18: =SUM(B18:U18) -> 13
A19: Jp | B19: =SUM(B4:B18) -> 15 | C19: =SUM(C4:C18) -> 15 | D19: =SUM(D4:D18) -> 14 | E19: =SUM(E4:E18) -> 15 | F19: =SUM(F4:F18) -> 15 | G19: =SUM(G4:G18) -> 15 | H19: =SUM(H4:H18) -> 11 | I19: =SUM(I4:I18) -> 13 | ... U19: =SUM(U4:U18) -> 6
A20: Np | B20: 15
A21: Kelompok Kurang
A22: 28 | B22: 1 | C22: 1 | D22: 1 | E22: 1 | F22: 1 | G22: 1 | H22: 1 | I22: 0 | J22: 1 | K22: 0 | L22: 0 | M22: 0 | N22: 1 | O22: 0 | P22: 1 | Q22: 0 | R22: 1 | S22: 1 | T22: 0 | U22: 1 | V22: =SUM(B22:U22) -> 13
A23: 30 | B23: 1 | C23: 1 | D23: 1 | E23: 1 | F23: 0 | G23: 1 | H23: 1 | I23: 0 | J23: 1 | K23: 0 | L23: 1 | M23: 0 | N23: 1 | O23: 0 | P23: 1 | Q23: 1 | R23: 1 | S23: 1 | T23: 0 | U23: 0 | V23: =SUM(B23:U23) -> 13
A24: 2 | B24: 1 | C24: 1 | D24: 1 | E24: 1 | F24: 1 | G24: 1 | H24: 1 | I24: 0 | J24: 1 | K24: 0 | L24: 1 | M24: 0 | N24: 1 | O24: 0 | P24: 0 | Q24: 0 | R24: 1 | S24: 1 | T24: 0 | U24: 0 | V24: =SUM(B24:U24) -> 12
A25: 13 | B25: 1 | C25: 1 | D25: 1 | E25: 1 | F25: 1 | G25: 1 | H25: 1 | I25: 0 | J25: 0 | K25: 0 | L25: 0 | M25: 0 | N25: 1 | O25: 1 | P25: 0 | Q25: 0 | R25: 0 | S25: 1 | T25: 0 | U25: 0 | V25: =SUM(B25:U25) -> 10
A26: 15 | B26: 1 | C26: 0 | D26: 0 | E26: 1 | F26: 1 | G26: 1 | H26: 0 | I26: 1 | J26: 0 | K26: 1 | L26: 1 | M26: 0 | N26: 0 | O26: 1 | P26: 0 | Q26: 0 | R26: 1 | S26: 1 | T26: 0 | U26: 0 | V26: =SUM(B26:U26) -> 10
A27: 23 | B27: 1 | C27: 0 | D27: 1 | E27: 1 | F27: 1 | G27: 1 | H27: 1 | I27: 0 | J27: 1 | K27: 0 | L27: 1 | M27: 0 | N27: 1 | O27: 0 | P27: 0 | Q27: 0 | R27: 0 | S27: 1 | T27: 0 | U27: 0 | V27: =SUM(B27:U27) -> 10
A28: 5 | B28: 1 | C28: 0 | D28: 0 | E28: 0 | F28: 1 | G28: 1 | H28: 0 | I28: 1 | J28: 0 | K28: 1 | L28: 0 | M28: 0 | N28: 0 | O28: 1 | P28: 1 | Q28: 1 | R28: 0 | S28: 0 | T28: 0 | U28: 1 | V28: =SUM(B28:U28) -> 9
A29: 26 | B29: 1 | C29: 1 | D29: 1 | E29: 0 | F29: 1 | G29: 1 | H29: 0 | I29: 0 | J29: 1 | K29: 0 | L29: 0 | M29: 0 | N29: 1 | O29: 1 | P29: 0 | Q29: 0 | R29: 1 | S29: 0 | T29: 0 | U29: 0 | V29: =SUM(B29:U29) -> 9
A30: 6 | B30: 1 | C30: 1 | D30: 1 | E30: 0 | F30: 1 | G30: 1 | H30: 0 | I30: 1 | J30: 0 | K30: 0 | L30: 0 | M30: 0 | N30: 1 | O30: 0 | P30: 0 | Q30: 0 | R30: 0 | S30: 1 | T30: 0 | U30: 0 | V30: =SUM(B30:U30) -> 8
A31: 25 | B31: 1 | C31: 1 | D31: 0 | E31: 0 | F31: 1 | G31: 0 | H31: 0 | I31: 0 | J31: 1 | K31: 0 | L31: 0 | M31: 0 | N31: 1 | O31: 1 | P31: 1 | Q31: 0 | R31: 0 | S31: 1 | T31: 0 | U31: 0 | V31: =SUM(B31:U31) -> 8
A32: 8 | B32: 1 | C32: 0 | D32: 0 | E32: 0 | F32: 1 | G32: 1 | H32: 0 | I32: 0 | J32: 0 | K32: 1 | L32: 0 | M32: 0 | N32: 0 | O32: 1 | P32: 1 | Q32: 0 | R32: 0 | S32: 0 | T32: 0 | U32: 1 | V32: =SUM(B32:U32) -> 7
A33: 12 | B33: 0 | C33: 1 | D33: 1 | E33: 0 | F33: 1 | G33: 1 | H33: 0 | I33: 0 | J33: 0 | K33: 1 | L33: 0 | M33: 0 | N33: 0 | O33: 0 | P33: 1 | Q33: 0 | R33: 0 | S33: 0 | T33: 0 | U33: 0 | V33: =SUM(B33:U33) -> 6
... A36: 4 | B36: 0 | C36: 0 | D36: 0 | E36: 0 | F36: 1 | G36: 1 | H36: 0 | I36: 0 | J36: 0 | K36: 1 | L36: 0 | M36: 0 | N36: 0 | O36: 1 | P36: 0 | Q36: 0 | R36: 0 | S36: 0 | T36: 0 | U36: 0 | V36: =SUM(B36:U36) -> 4
A37: Jk | B37: =SUM(B22:B36) -> 13 | C37: =SUM(C22:C36) -> 8 | D37: =SUM(D22:D36) -> 8 | E37: =SUM(E22:E36) -> 6 | F37: =SUM(F22:F36) -> 13 | G37: =SUM(G22:G36) -> 13 | H37: =SUM(H22:H36) -> 5 | I37: =SUM(I22:I36) -> 5 | ... U37: =SUM(U22:U36) -> 3
A38: Nk | B38: 15
A39: DP | B39: =(B19/15)-(B37/15) -> 0.13333333 | C39: =(C19/15)-(C37/15) -> 0.46666667 | D39: =(D19/15)-(D37/15) -> 0.4 | E39: =(E19/15)-(E37/15) -> 0.6 | F39: =(F19/15)-(F37/15) -> 0.13333333 | G39: =(G19/15)-(G37/15) -> 0.13333333 | H39: =(H19/15)-(H37/15) -> 0.4 | I39: =(I19/15)-(I37/15) -> 0.53333333 | ... U39: =(U19/15)-(U37/15) -> 0.2
A40: Kriteria | B40: =IF(B39>=0.4,"Baik Sekali",IF(B39>=0.3,"Baik",IF(B39>=0.2,"Sedang",IF(B39>=0.01,"Kurang",IF(B39<0.01,"Buruk"))))) -> Kurang | C40: =IF(C39>=0.4,"Baik Sekali",IF(C39>=0.3,"Baik",IF(C39>=0.2,"Sedang",IF(C39>=0.01,"Kurang",IF(C39<0.01,"Buruk"))))) -> Baik Sekali | D40: =IF(D39>=0.4,"Baik Sekali",IF(D39>=0.3,"Baik",IF(D39>=0.2,"Sedang",IF(D39>=0.01,"Kurang",IF(D39<0.01,"Buruk"))))) -> Baik Sekali | E40: =IF(E39>=0.4,"Baik Sekali",IF(E39>=0.3,"Baik",IF(E39>=0.2,"Sedang",IF(E39>=0.01,"Kurang",IF(E39<0.01,"Buruk"))))) -> Baik Sekali | F40: =IF(F39>=0.4,"Baik Sekali",IF(F39>=0.3,"Baik",IF(F39>=0.2,"Sedang",IF(F39>=0.01,"Kurang",IF(F39<0.01,"Buruk"))))) -> Kurang | G40: =IF(G39>=0.4,"Baik Sekali",IF(G39>=0.3,"Baik",IF(G39>=0.2,"Sedang",IF(G39>=0.01,"Kurang",IF(G39<0.01,"Buruk"))))) -> Kurang | H40: =IF(H39>=0.4,"Baik Sekali",IF(H39>=0.3,"Baik",IF(H39>=0.2,"Sedang",IF(H39>=0.01,"Kurang",IF(H39<0.01,"Buruk"))))) -> Baik Sekali | I40: =IF(I39>=0.4,"Baik Sekali",IF(I39>=0.3,"Baik",IF(I39>=0.2,"Sedang",IF(I39>=0.01,"Kurang",IF(I39<0.01,"Buruk"))))) -> Baik Sekali | ... U40: =IF(U39>=0.4,"Baik Sekali",IF(U39>=0.3,"Baik",IF(U39>=0.2,"Sedang",IF(U39>=0.01,"Kurang",IF(U39<0.01,"Buruk"))))) -> Sedang
B41: 1 | C41: 2 | D41: 3 | E41: 4 | F41: 5 | G41: 6 | H41: 7 | I41: 8 | J41: 9 | K41: 10 | L41: 11 | M41: 12 | N41: 13 | O41: 14 | P41: 15 | Q41: 16 | R41: 17 | S41: 18 | T41: 19 | U41: 20
A44: Testee | B44: Butir Soal | V44: Skor Total
B45: 1 | C45: 2 | D45: 3 | E45: 4 | F45: 5 | G45: 6 | H45: 7 | I45: 8 | J45: 9 | K45: 10 | L45: 11 | M45: 12 | N45: 13 | O45: 14 | P45: 15 | Q45: 16 | R45: 17 | S45: 18 | T45: 19 | U45: 20 | V45: X
A46: 1 | B46: 1 | C46: 1 | D46: 1 | E46: 1 | F46: 1 | G46: 1 | H46: 1 | I46: 1 | J46: 1 | K46: 0 | L46: 1 | M46: 0 | N46: 1 | O46: 0 | P46: 0 | Q46: 0 | R46: 1 | S46: 1 | T46: 0 | U46: 0 | V46: =SUM(B46:U46) -> 13
...

Sheet (01)Indeks Kesukaran
A2: Testee | B2: Butir Soal | V2: Skor Total
B3: 1 | C3: 2 | D3: 3 | E3: 4 | F3: 5 | G3: 6 | H3: 7 | I3: 8 | J3: 9 | K3: 10 | L3: 11 | M3: 12 | N3: 13 | O3: 14 | P3: 15 | Q3: 16 | R3: 17 | S3: 18 | T3: 19 | U3: 20
A4: 1 | B4: 1 | C4: 1 | D4: 1 | E4: 1 | F4: 1 | G4: 1 | H4: 1 | I4: 1 | J4: 1 | K4: 0 | L4: 1 | M4: 0 | N4: 1 | O4: 0 | P4: 0 | Q4: 0 | R4: 1 | S4: 1 | T4: 0 | U4: 0 | V4: =SUM(B4:U4) -> 13
A5: 2 | B5: 1 | C5: 1 | D5: 1 | E5: 1 | F5: 1 | G5: 1 | H5: 1 | I5: 0 | J5: 1 | K5: 0 | L5: 1 | M5: 0 | N5: 1 | O5: 0 | P5: 0 | Q5: 0 | R5: 1 | S5: 1 | T5: 0 | U5: 0 | V5: =SUM(B5:U5) -> 12
A6: 3 | B6: 1 | C6: 1 | D6: 1 | E6: 1 | F6: 1 | G6: 1 | H6: 0 | I6: 1 | J6: 1 | K6: 1 | L6: 1 | M6: 0 | N6: 1 | O6: 0 | P6: 0 | Q6: 1 | R6: 1 | S6: 1 | T6: 0 | U6: 0 | V6: =SUM(B6:U6) -> 14
A7: 4 | B7: 0 | C7: 0 | D7: 0 | E7: 0 | F7: 1 | G7: 1 | H7: 0 | I7: 0 | J7: 0 | K7: 1 | L7: 0 | M7: 0 | N7: 0 | O7: 1 | P7: 0 | Q7: 0 | R7: 0 | S7: 0 | T7: 0 | U7: 0 | V7: =SUM(B7:U7) -> 4
A8: 5 | B8: 1 | C8: 0 | D8: 0 | E8: 0 | F8: 1 | G8: 1 | H8: 0 | I8: 1 | J8: 0 | K8: 1 | L8: 0 | M8: 0 | N8: 0 | O8: 1 | P8: 1 | Q8: 1 | R8: 0 | S8: 0 | T8: 0 | U8: 1 | V8: =SUM(B8:U8) -> 9
A9: 6 | B9: 1 | C9: 1 | D9: 1 | E9: 0 | F9: 1 | G9: 1 | H9: 0 | I9: 1 | J9: 0 | K9: 0 | L9: 0 | M9: 0 | N9: 1 | O9: 0 | P9: 0 | Q9: 0 | R9: 0 | S9: 1 | T9: 0 | U9: 0 | V9: =SUM(B9:U9) -> 8
A10: 7 | B10: 1 | C10: 1 | D10: 1 | E10: 1 | F10: 1 | G10: 1 | H10: 1 | I10: 1 | J10: 0 | K10: 0 | L10: 1 | M10: 0 | N10: 1 | O10: 1 | P10: 1 | Q10: 1 | R10: 0 | S10: 1 | T10: 0 | U10: 1 | V10: =SUM(B10:U10) -> 15
A11: 8 | B11: 1 | C11: 0 | D11: 0 | E11: 0 | F11: 1 | G11: 1 | H11: 0 | I11: 0 | J11: 0 | K11: 1 | L11: 0 | M11: 0 | N11: 0 | O11: 1 | P11: 1 | Q11: 0 | R11: 0 | S11: 0 | T11: 0 | U11: 1 | V11: =SUM(B11:U11) -> 7
A12: 9 | B12: 1 | C12: 1 | D12: 1 | E12: 1 | F12: 1 | G12: 1 | H12: 1 | I12: 1 | J12: 1 | K12: 0 | L12: 1 | M12: 0 | N12: 1 | O12: 0 | P12: 1 | Q12: 0 | R12: 1 | S12: 1 | T12: 1 | U12: 0 | V12: =SUM(B12:U12) -> 15
A13: 10 | B13: 1 | C13: 1 | D13: 1 | E13: 1 | F13: 1 | G13: 1 | H13: 1 | I13: 1 | J13: 1 | K13: 0 | L13: 1 | M13: 0 | N13: 1 | O13: 0 | P13: 1 | Q13: 1 | R13: 1 | S13: 1 | T13: 1 | U13: 1 | V13: =SUM(B13:U13) -> 17
A14: 11 | B14: 1 | C14: 1 | D14: 1 | E14: 1 | F14: 1 | G14: 1 | H14: 1 | I14: 0 | J14: 1 | K14: 0 | L14: 1 | M14: 0 | N14: 1 | O14: 0 | P14: 0 | Q14: 1 | R14: 1 | S14: 1 | T14: 0 | U14: 0 | V14: =SUM(B14:U14) -> 13
A15: 12 | B15: 0 | C15: 1 | D15: 1 | E15: 0 | F15: 1 | G15: 1 | H15: 0 | I15: 0 | J15: 0 | K15: 1 | L15: 0 | M15: 0 | N15: 0 | O15: 0 | P15: 1 | Q15: 0 | R15: 0 | S15: 0 | T15: 0 | U15: 0 | V15: =SUM(B15:U15) -> 6
... A33: 30 | B33: 1 | C33: 1 | D33: 1 | E33: 1 | F33: 0 | G33: 1 | H33: 1 | I33: 0 | J33: 1 | K33: 0 | L33: 1 | M33: 0 | N33: 1 | O33: 0 | P33: 1 | Q33: 1 | R33: 1 | S33: 1 | T33: 0 | U33: 0 | V33: =SUM(B33:U33) -> 13
A34: B | B34: =SUM(B4:B33) -> 28 | C34: =SUM(C4:C33) -> 23 | D34: =SUM(D4:D33) -> 22 | E34: =SUM(E4:E33) -> 21 | F34: =SUM(F4:F33) -> 28 | G34: =SUM(G4:G33) -> 28 | H34: =SUM(H4:H33) -> 16 | I34: =SUM(I4:I33) -> 18 | ... U34: =SUM(U4:U33) -> 9
A35: P | B35: =B34/30 -> 0.93333333 | C35: =C34/30 -> 0.76666667 | D35: =D34/30 -> 0.73333333 | E35: =E34/30 -> 0.7 | F35: =F34/30 -> 0.93333333 | G35: =G34/30 -> 0.93333333 | H35: =H34/30 -> 0.53333333 | I35: =I34/30 -> 0.6 | ... U35: =U34/30 -> 0.3
A36: Kriteria | B36: =IF(B35<=0.3,"Sulit",IF(B35<=0.7,"Sedang",IF(B35<=1,"Mudah"))) -> Mudah | C36: =IF(C35<=0.3,"Sulit",IF(C35<=0.7,"Sedang",IF(C35<=1,"Mudah"))) -> Mudah | D36: =IF(D35<=0.3,"Sulit",IF(D35<=0.7,"Sedang",IF(D35<=1,"Mudah"))) -> Mudah | E36: =IF(E35<=0.3,"Sulit",IF(E35<=0.7,"Sedang",IF(E35<=1,"Mudah"))) -> Sedang | F36: =IF(F35<=0.3,"Sulit",IF(F35<=0.7,"Sedang",IF(F35<=1,"Mudah"))) -> Mudah | G36: =IF(G35<=0.3,"Sulit",IF(G35<=0.7,"Sedang",IF(G35<=1,"Mudah"))) -> Mudah | H36: =IF(H35<=0.3,"Sulit",IF(H35<=0.7,"Sedang",IF(H35<=1,"Mudah"))) -> Sedang | I36: =IF(I35<=0.3,"Sulit",IF(I35<=0.7,"Sedang",IF(I35<=1,"Mudah"))) -> Sedang | ... U36: =IF(U35<=0.3,"Sulit",IF(U35<=0.7,"Sedang",IF(U35<=1,"Mudah"))) -> Sulit
B37: 1 | C37: 2 | D37: 3 | E37: 4 | F37: 5 | G37: 6 | H37: 7 | I37: 8 | J37: 9 | K37: 10 | L37: 11 | M37: 12 | N37: 13 | O37: 14 | P37: 15 | Q37: 16 | R37: 17 | S37: 18 | T37: 19 | U37: 20

Sheet (03) Validitas
A1: Validitas Tier-1
A2: Testee | B2: Butir Soal | V2: Skor Total
B3: 1 | C3: 2 | D3: 3 | E3: 4 | F3: 5 | G3: 6 | H3: 7 | I3: 8 | J3: 9 | K3: 10 | L3: 11 | M3: 12 | N3: 13 | O3: 14 | P3: 15 | Q3: 16 | R3: 17 | S3: 18 | T3: 19 | U3: 20 | V3: X
A4: 1 | B4: 1 | C4: 0 | D4: 1 | E4: 1 | F4: 0 | G4: 1 | H4: 1 | I4: 1 | J4: 1 | K4: 0 | L4: 1 | M4: 0 | N4: 1 | O4: 1 | P4: 1 | Q4: 0 | R4: 1 | S4: 1 | T4: 1 | U4: 0 | V4: =SUM(B4:U4) -> 14 | W4: =V4^2 -> 196
A5: 2 | B5: 1 | C5: 0 | D5: 0 | E5: 1 | F5: 0 | G5: 0 | H5: 0 | I5: 0 | J5: 1 | K5: 0 | L5: 0 | M5: 0 | N5: 0 | O5: 1 | P5: 1 | Q5: 0 | R5: 0 | S5: 1 | T5: 0 | U5: 0 | V5: =SUM(B5:U5) -> 6 | W5: =V5^2 -> 36
A6: 3 | B6: 1 | C6: 1 | D6: 1 | E6: 1 | F6: 1 | G6: 1 | H6: 0 | I6: 0 | J6: 1 | K6: 0 | L6: 1 | M6: 0 | N6: 1 | O6: 1 | P6: 1 | Q6: 0 | R6: 1 | S6: 0 | T6: 1 | U6: 0 | V6: =SUM(B6:U6) -> 13 | W6: =V6^2 -> 169
A7: 4 | B7: 0 | C7: 0 | D7: 1 | E7: 0 | F7: 0 | G7: 1 | H7: 0 | I7: 1 | J7: 0 | K7: 1 | L7: 0 | M7: 1 | N7: 0 | O7: 1 | P7: 1 | Q7: 0 | R7: 0 | S7: 1 | T7: 0 | U7: 0 | V7: =SUM(B7:U7) -> 8 | W7: =V7^2 -> 64
A8: 5 | B8: 0 | C8: 0 | D8: 0 | E8: 0 | F8: 0 | G8: 0 | H8: 1 | I8: 1 | J8: 0 | K8: 1 | L8: 0 | M8: 0 | N8: 0 | O8: 0 | P8: 1 | Q8: 0 | R8: 0 | S8: 1 | T8: 1 | U8: 1 | V8: =SUM(B8:U8) -> 7 | W8: =V8^2 -> 49
A9: 6 | B9: 1 | C9: 1 | D9: 1 | E9: 1 | F9: 0 | G9: 0 | H9: 1 | I9: 0 | J9: 0 | K9: 0 | L9: 1 | M9: 1 | N9: 0 | O9: 0 | P9: 0 | Q9: 0 | R9: 0 | S9: 0 | T9: 1 | U9: 0 | V9: =SUM(B9:U9) -> 8 | W9: =V9^2 -> 64
A10: 7 | B10: 1 | C10: 1 | D10: 1 | E10: 1 | F10: 1 | G10: 1 | H10: 1 | I10: 1 | J10: 1 | K10: 1 | L10: 1 | M10: 1 | N10: 1 | O10: 1 | P10: 1 | Q10: 1 | R10: 0 | S10: 1 | T10: 1 | U10: 1 | V10: =SUM(B10:U10) -> 19 | W10: =V10^2 -> 361
A11: 8 | B11: 0 | C11: 0 | D11: 0 | E11: 0 | F11: 0 | G11: 1 | H11: 1 | I11: 0 | J11: 0 | K11: 1 | L11: 0 | M11: 0 | N11: 0 | O11: 0 | P11: 1 | Q11: 1 | R11: 0 | S11: 1 | T11: 1 | U11: 1 | V11: =SUM(B11:U11) -> 8 | W11: =V11^2 -> 64
A12: 9 | B12: 1 | C12: 0 | D12: 1 | E12: 1 | F12: 0 | G12: 1 | H12: 0 | I12: 1 | J12: 1 | K12: 0 | L12: 1 | M12: 0 | N12: 1 | O12: 1 | P12: 1 | Q12: 1 | R12: 1 | S12: 1 | T12: 1 | U12: 0 | V12: =SUM(B12:U12) -> 14 | W12: =V12^2 -> 196
A13: 10 | B13: 0 | C13: 0 | D13: 1 | E13: 1 | F13: 0 | G13: 0 | H13: 0 | I13: 1 | J13: 1 | K13: 0 | L13: 1 | M13: 0 | N13: 0 | O13: 0 | P13: 0 | Q13: 0 | R13: 0 | S13: 1 | T13: 1 | U13: 1 | V13: =SUM(B13:U13) -> 8 | W13: =V13^2 -> 64
A14: 11 | B14: 1 | C14: 0 | D14: 0 | E14: 0 | F14: 0 | G14: 0 | H14: 0 | I14: 0 | J14: 1 | K14: 0 | L14: 0 | M14: 0 | N14: 0 | O14: 1 | P14: 0 | Q14: 0 | R14: 1 | S14: 1 | T14: 0 | U14: 0 | V14: =SUM(B14:U14) -> 5 | W14: =V14^2 -> 25
A15: 12 | B15: 1 | C15: 1 | D15: 1 | E15: 1 | F15: 0 | G15: 1 | H15: 0 | I15: 0 | J15: 0 | K15: 0 | L15: 0 | M15: 0 | N15: 0 | O15: 0 | P15: 0 | Q15: 1 | R15: 0 | S15: 0 | T15: 1 | U15: 0 | V15: =SUM(B15:U15) -> 7 | W15: =V15^2 -> 49
... A33: 30 | B33: 1 | C33: 1 | D33: 1 | E33: 0 | F33: 1 | G33: 0 | H33: 0 | I33: 1 | J33: 1 | K33: 0 | L33: 1 | M33: 0 | N33: 0 | O33: 1 | P33: 1 | Q33: 1 | R33: 0 | S33: 1 | T33: 1 | U33: 1 | V33: =SUM(B33:U33) -> 13 | W33: =V33^2 -> 169
A34: Ʃ | B34: =SUM(B4:B33) -> 21 | C34: =SUM(C4:C33) -> 16 | D34: =SUM(D4:D33) -> 19 | E34: =SUM(E4:E33) -> 20 | F34: =SUM(F4:F33) -> 14 | G34: =SUM(G4:G33) -> 14 | H34: =SUM(H4:H33) -> 15 | I34: =SUM(I4:I33) -> 17 | ... U34: =SUM(U4:U33) -> 13 | V34: =SUM(B34:U34) -> 318 | W34: =SUM(W4:W33) -> 3854
A35: p | B35: =B34/30 -> 0.7 | C35: =C34/30 -> 0.53333333 | D35: =D34/30 -> 0.63333333 | E35: =E34/30 -> 0.66666667 | F35: =F34/30 -> 0.46666667 | G35: =G34/30 -> 0.46666667 | H35: =H34/30 -> 0.5 | I35: =I34/30 -> 0.56666667 | ... U35: =U34/30 -> 0.43333333
A36: q | B36: =1-B35 -> 0.3 | C36: =1-C35 -> 0.46666667 | D36: =1-D35 -> 0.36666667 | E36: =1-E35 -> 0.33333333 | F36: =1-F35 -> 0.53333333 | G36: =1-G35 -> 0.53333333 | H36: =1-H35 -> 0.5 | I36: =1-I35 -> 0.43333333 | ... U36: =1-U35 -> 0.56666667
A37: Mp | B37: =SUMIF(B4:B33,1,$V$4:$V$33)/B34 -> 11.904762 | C37: =SUMIF(C4:C33,1,$V$4:$V$33)/C34 -> 12.4375 | D37: =SUMIF(D4:D33,1,$V$4:$V$33)/D34 -> 12 | E37: =SUMIF(E4:E33,1,$V$4:$V$33)/E34 -> 11.9 | F37: =SUMIF(F4:F33,1,$V$4:$V$33)/F34 -> 12.857143 | G37: =SUMIF(G4:G33,1,$V$4:$V$33)/G34 -> 12.214286 | H37: =SUMIF(H4:H33,1,$V$4:$V$33)/H34 -> 12.133333 | I37: =SUMIF(I4:I33,1,$V$4:$V$33)/I34 -> 11.882353 | ... U37: =SUMIF(U4:U33,1,$V$4:$V$33)/U34 -> 12.384615
A38: Mt | B38: =V34/30 -> 10.6
A39: St | B39: =SQRT(((W34/30)-((V34/30)^2))) -> 4.0133112
A40: r tabel | B40: 0.361
A41: r pbi | B41: =((B37-$B$38)/$B$39)*(SQRT(B35/B36)) -> 0.49661156 | C41: =(((C37-$B$38)/$B$39)*SQRT(C35/C36)) -> 0.4894637 | D41: =(((D37-$B$38)/$B$39)*SQRT(D35/D36)) -> 0.45846444 | E41: =(((E37-$B$38)/$B$39)*SQRT(E35/E36)) -> 0.45809496 | F41: =(((F37-$B$38)/$B$39)*SQRT(F35/F36)) -> 0.52609023 | G41: =(((G37-$B$38)/$B$39)*SQRT(G35/G36)) -> 0.37625441 | H41: =(((H37-$B$38)/$B$39)*SQRT(H35/H36)) -> 0.38206191 | I41: =(((I37-$B$38)/$B$39)*SQRT(I35/I36)) -> 0.36539073 | J41: =(((J37-$B$38)/$B$39)*SQRT(J35/J36)) -> 0.44223803 | ... U41: =(((U37-$B$38)/$B$39)*SQRT(U35/U36)) -> 0.38885619
A42: Kriteria | B42: =IF(B41>=$B$40,"Valid","Tidak Valid") -> Valid | C42: =IF(C41>=$B$40,"Valid","Tidak Valid") -> Valid | D42: =IF(D41>=$B$40,"Valid","Tidak Valid") -> Valid | E42: =IF(E41>=$B$40,"Valid","Tidak Valid") -> Valid | F42: =IF(F41>=$B$40,"Valid","Tidak Valid") -> Valid | G42: =IF(G41>=$B$40,"Valid","Tidak Valid") -> Valid | H42: =IF(H41>=$B$40,"Valid","Tidak Valid") -> Valid | I42: =IF(I41>=$B$40,"Valid","Tidak Valid") -> Valid | ... U42: =IF(U41>=$B$40,"Valid","Tidak Valid") -> Valid
B43: =CORREL(B4:B33,$V$4:$V$33) -> 0.49661156 | C43: =CORREL(C4:C33,$V$4:$V$33) -> 0.4894637 | D43: =CORREL(D4:D33,$V$4:$V$33) -> 0.45846444 | E43: =CORREL(E4:E33,$V$4:$V$33) -> 0.45809496 | F43: =CORREL(F4:F33,$V$4:$V$33) -> 0.52609023 | G43: =CORREL(G4:G33,$V$4:$V$33) -> 0.37625441 | H43: =CORREL(H4:H33,$V$4:$V$33) -> 0.38206191 | I43: =CORREL(I4:I33,$V$4:$V$33) -> 0.36539073 | ... U43: =CORREL(U4:U33,$V$4:$V$33) -> 0.38885619
B44: =IF(B43>=$B$40,"Valid","Invalid") -> Valid | C44: =IF(C43>=$B$40,"Valid","Invalid") -> Valid | D44: =IF(D43>=$B$40,"Valid","Invalid") -> Valid | E44: =IF(E43>=$B$40,"Valid","Invalid") -> Valid | F44: =IF(F43>=$B$40,"Valid","Invalid") -> Valid | G44: =IF(G43>=$B$40,"Valid","Invalid") -> Valid | H44: =IF(H43>=$B$40,"Valid","Invalid") -> Valid | I44: =IF(I43>=$B$40,"Valid","Invalid") -> Valid | ... U44: =IF(U43>=$B$40,"Valid","Invalid") -> Valid
B45: 1 | C45: 2 | D45: 3 | E45: 4 | F45: 5 | G45: 6 | H45: 7 | I45: 8 | J45: 9 | K45: 10 | L45: 11 | M45: 12 | N45: 13 | O45: 14 | P45: 15 | Q45: 16 | R45: 17 | S45: 18 | T45: 19 | U45: 20

Sheet (03) Reliabilitas
A3: Testee | B3: Soal Ganjil (X) | C3: Soal Genap (Y) | D3: X^2 | E3: Y^2 | F3: XY | H3: Testee | I3: Butir Soal
A4: 1 | B4: =I5+K5+M5+O5+Q5+S5+U5+W5+Y5+AA5 -> 9 | C4: =J5+L5+N5+P5+R5+T5+V5+X5+Z5+AB5 -> 5 | D4: =B4^2 -> 81 | E4: =C4^2 -> 25 | F4: =B4*C4 -> 45 | I4: 1 | J4: 2 | K4: 3 | L4: 4 | M4: 5 | N4: 6 | O4: 7 | P4: 8 | Q4: 9 | R4: 10 | S4: 11 | T4: 12 | U4: 13 | V4: 14 | W4: 15 | X4: 16 | Y4: 17 | Z4: 18 | AA4: 19 | AB4: 20
A5: 2 | B5: =I6+K6+M6+O6+Q6+S6+U6+W6+Y6+AA6 -> 3 | C5: =J6+L6+N6+P6+R6+T6+V6+X6+Z6+AB6 -> 3 | D5: =B5^2 -> 9 | E5: =C5^2 -> 9 | F5: =B5*C5 -> 9 | H5: 1 | I5: 1 | J5: 0 | K5: 1 | L5: 1 | M5: 0 | N5: 1 | O5: 1 | P5: 1 | Q5: 1 | R5: 0 | S5: 1 | T5: 0 | U5: 1 | V5: 1 | W5: 1 | X5: 0 | Y5: 1 | Z5: 1 | AA5: 1 | AB5: 0
A6: 3 | B6: =I7+K7+M7+O7+Q7+S7+U7+W7+Y7+AA7 -> 9 | C6: =J7+L7+N7+P7+R7+T7+V7+X7+Z7+AB7 -> 4 | D6: =B6^2 -> 81 | E6: =C6^2 -> 16 | F6: =B6*C6 -> 36 | H6: 2 | I6: 1 | J6: 0 | K6: 0 | L6: 1 | M6: 0 | N6: 0 | O6: 0 | P6: 0 | Q6: 1 | R6: 0 | S6: 0 | T6: 0 | U6: 0 | V6: 1 | W6: 1 | X6: 0 | Y6: 0 | Z6: 1 | AA6: 0 | AB6: 0
A7: 4 | B7: =I8+K8+M8+O8+Q8+S8+U8+W8+Y8+AA8 -> 2 | C7: =J8+L8+N8+P8+R8+T8+V8+X8+Z8+AB8 -> 6 | D7: =B7^2 -> 4 | E7: =C7^2 -> 36 | F7: =B7*C7 -> 12 | H7: 3 | I7: 1 | J7: 1 | K7: 1 | L7: 1 | M7: 1 | N7: 1 | O7: 0 | P7: 0 | Q7: 1 | R7: 0 | S7: 1 | T7: 0 | U7: 1 | V7: 1 | W7: 1 | X7: 0 | Y7: 1 | Z7: 0 | AA7: 1 | AB7: 0
A8: 5 | B8: =I9+K9+M9+O9+Q9+S9+U9+W9+Y9+AA9 -> 3 | C8: =J9+L9+N9+P9+R9+T9+V9+X9+Z9+AB9 -> 4 | D8: =B8^2 -> 9 | E8: =C8^2 -> 16 | F8: =B8*C8 -> 12 | H8: 4 | I8: 0 | J8: 0 | K8: 1 | L8: 0 | M8: 0 | N8: 1 | O8: 0 | P8: 1 | Q8: 0 | R8: 1 | S8: 0 | T8: 1 | U8: 0 | V8: 1 | W8: 1 | X8: 0 | Y8: 0 | Z8: 1 | AA8: 0 | AB8: 0
A9: 6 | B9: =I10+K10+M10+O10+Q10+S10+U10+W10+Y10+AA10 -> 5 | C9: =J10+L10+N10+P10+R10+T10+V10+X10+Z10+AB10 -> 3 | D9: =B9^2 -> 25 | E9: =C9^2 -> 9 | F9: =B9*C9 -> 15 | H9: 5 | I9: 0 | J9: 0 | K9: 0 | L9: 0 | M9: 0 | N9: 0 | O9: 1 | P9: 1 | Q9: 0 | R9: 1 | S9: 0 | T9: 0 | U9: 0 | V9: 0 | W9: 1 | X9: 0 | Y9: 0 | Z9: 1 | AA9: 1 | AB9: 1
A10: 7 | B10: =I11+K11+M11+O11+Q11+S11+U11+W11+Y11+AA11 -> 9 | C10: =J11+L11+N11+P11+R11+T11+V11+X11+Z11+AB11 -> 10 | D10: =B10^2 -> 81 | E10: =C10^2 -> 100 | F10: =B10*C10 -> 90 | H10: 6 | I10: 1 | J10: 1 | K10: 1 | L10: 1 | M10: 0 | N10: 0 | O10: 1 | P10: 0 | Q10: 0 | R10: 0 | S10: 1 | T10: 1 | U10: 0 | V10: 0 | W10: 0 | X10: 0 | Y10: 0 | Z10: 0 | AA10: 1 | AB10: 0
A11: 8 | B11: =I12+K12+M12+O12+Q12+S12+U12+W12+Y12+AA12 -> 3 | C11: =J12+L12+N12+P12+R12+T12+V12+X12+Z12+AB12 -> 5 | D11: =B11^2 -> 9 | E11: =C11^2 -> 25 | F11: =B11*C11 -> 15 | H11: 7 | I11: 1 | J11: 1 | K11: 1 | L11: 1 | M11: 1 | N11: 1 | O11: 1 | P11: 1 | Q11: 1 | R11: 1 | S11: 1 | T11: 1 | U11: 1 | V11: 1 | W11: 1 | X11: 1 | Y11: 0 | Z11: 1 | AA11: 1 | AB11: 1
A12: 9 | B12: =I13+K13+M13+O13+Q13+S13+U13+W13+Y13+AA13 -> 8 | C12: =J13+L13+N13+P13+R13+T13+V13+X13+Z13+AB13 -> 6 | D12: =B12^2 -> 64 | E12: =C12^2 -> 36 | F12: =B12*C12 -> 48 | H12: 8 | I12: 0 | J12: 0 | K12: 0 | L12: 0 | M12: 0 | N12: 1 | O12: 1 | P12: 0 | Q12: 0 | R12: 1 | S12: 0 | T12: 0 | U12: 0 | V12: 0 | W12: 1 | X12: 1 | Y12: 0 | Z12: 1 | AA12: 1 | AB12: 1
A13: 10 | B13: =I14+K14+M14+O14+Q14+S14+U14+W14+Y14+AA14 -> 4 | C13: =J14+L14+N14+P14+R14+T14+V14+X14+Z14+AB14 -> 4 | D13: =B13^2 -> 16 | E13: =C13^2 -> 16 | F13: =B13*C13 -> 16 | H13: 9 | I13: 1 | J13: 0 | K13: 1 | L13: 1 | M13: 0 | N13: 1 | O13: 0 | P13: 1 | Q13: 1 | R13: 0 | S13: 1 | T13: 0 | U13: 1 | V13: 1 | W13: 1 | X13: 1 | Y13: 1 | Z13: 1 | AA13: 1 | AB13: 0
A14: 11 | B14: =I15+K15+M15+O15+Q15+S15+U15+W15+Y15+AA15 -> 3 | C14: =J15+L15+N15+P15+R15+T15+V15+X15+Z15+AB15 -> 2 | D14: =B14^2 -> 9 | E14: =C14^2 -> 4 | F14: =B14*C14 -> 6 | H14: 10 | I14: 0 | J14: 0 | K14: 1 | L14: 1 | M14: 0 | N14: 0 | O14: 0 | P14: 1 | Q14: 1 | R14: 0 | S14: 1 | T14: 0 | U14: 0 | V14: 0 | W14: 0 | X14: 0 | Y14: 0 | Z14: 1 | AA14: 1 | AB14: 1
A15: 12 | B15: =I16+K16+M16+O16+Q16+S16+U16+W16+Y16+AA16 -> 3 | C15: =J16+L16+N16+P16+R16+T16+V16+X16+Z16+AB16 -> 4 | D15: =B15^2 -> 9 | E15: =C15^2 -> 16 | F15: =B15*C15 -> 12 | H15: 11 | I15: 1 | J15: 0 | K15: 0 | L15: 0 | M15: 0 | N15: 0 | O15: 0 | P15: 0 | Q15: 1 | R15: 0 | S15: 0 | T15: 0 | U15: 0 | V15: 1 | W15: 0 | X15: 0 | Y15: 1 | Z15: 1 | AA15: 0 | AB15: 0
A16: 13 | B16: =I17+K17+M17+O17+Q17+S17+U17+W17+Y17+AA17 -> 6 | C16: =J17+L17+N17+P17+R17+T17+V17+X17+Z17+AB17 -> 4 | D16: =B16^2 -> 36 | E16: =C16^2 -> 16 | F16: =B16*C16 -> 24 | H16: 12 | I16: 1 | J16: 1 | K16: 1 | L16: 1 | M16: 0 | N16: 1 | O16: 0 | P16: 0 | Q16: 0 | R16: 0 | S16: 0 | T16: 0 | U16: 0 | V16: 0 | W16: 0 | X16: 1 | Y16: 0 | Z16: 0 | AA16: 1 | AB16: 0
... A33: 30 | B33: =I34+K34+M34+O34+Q34+S34+U34+W34+Y34+AA34 -> 7 | C33: =J34+L34+N34+P34+R34+T34+V34+X34+Z34+AB34 -> 6 | D33: =B33^2 -> 49 | E33: =C33^2 -> 36 | F33: =B33*C33 -> 42 | H33: 29 | I33: 1 | J33: 0 | K33: 0 | L33: 1 | M33: 1 | N33: 0 | O33: 1 | P33: 1 | Q33: 1 | R33: 0 | S33: 1 | T33: 0 | U33: 1 | V33: 1 | W33: 1 | X33: 0 | Y33: 0 | Z33: 1 | AA33: 1 | AB33: 0
A34: Ʃ | B34: =SUM(B4:B33) -> 174 | C34: =SUM(C4:C33) -> 144 | D34: =SUM(D4:D33) -> 1214 | E34: =SUM(E4:E33) -> 806 | F34: =SUM(F4:F33) -> 917 | H34: 30 | I34: 1 | J34: 1 | K34: 1 | L34: 0 | M34: 1 | N34: 0 | O34: 0 | P34: 1 | Q34: 1 | R34: 0 | S34: 1 | T34: 0 | U34: 0 | V34: 1 | W34: 1 | X34: 1 | Y34: 0 | Z34: 1 | AA34: 1 | AB34: 1
B35: =(((36*F34)-(B34*C34))/(SQRT(((36*D34)-(B34^2))*((36*E34)-(C34^2))))) -> 0.75452553
B36: =((2*B35)/(1+B35)) -> 0.86009068
A37: Kriteria | B37: Sangat Tinggi

Sheet (03) Daya Beda
A1: Kelompok Pintar
A2: Testee | B2: Butir Soal | V2: Skor Total
B3: 1 | C3: 2 | D3: 3 | E3: 4 | F3: 5 | G3: 6 | H3: 7 | I3: 8 | J3: 9 | K3: 10 | L3: 11 | M3: 12 | N3: 13 | O3: 14 | P3: 15 | Q3: 16 | R3: 17 | S3: 18 | T3: 19 | U3: 20
A4: 16 | B4: 1 | C4: 1 | D4: 1 | E4: 1 | F4: 1 | G4: 1 | H4: 1 | I4: 1 | J4: 1 | K4: 1 | L4: 1 | M4: 1 | N4: 1 | O4: 1 | P4: 1 | Q4: 1 | R4: 1 | S4: 1 | T4: 1 | U4: 1 | V4: =SUM(B4:U4) -> 20
A5: 7 | B5: 1 | C5: 1 | D5: 1 | E5: 1 | F5: 1 | G5: 1 | H5: 1 | I5: 1 | J5: 1 | K5: 1 | L5: 1 | M5: 1 | N5: 1 | O5: 1 | P5: 1 | Q5: 1 | R5: 0 | S5: 1 | T5: 1 | U5: 1 | V5: =SUM(B5:U5) -> 19
A6: 24 | B6: 1 | C6: 1 | D6: 1 | E6: 1 | F6: 1 | G6: 1 | H6: 1 | I6: 1 | J6: 1 | K6: 0 | L6: 1 | M6: 0 | N6: 1 | O6: 1 | P6: 1 | Q6: 1 | R6: 1 | S6: 1 | T6: 1 | U6: 0 | V6: =SUM(B6:U6) -> 17
A7: 18 | B7: 1 | C7: 1 | D7: 1 | E7: 1 | F7: 1 | G7: 1 | H7: 0 | I7: 1 | J7: 1 | K7: 0 | L7: 1 | M7: 0 | N7: 1 | O7: 1 | P7: 1 | Q7: 0 | R7: 0 | S7: 1 | T7: 1 | U7: 1 | V7: =SUM(B7:U7) -> 15
A8: 19 | B8: 1 | C8: 1 | D8: 1 | E8: 1 | F8: 1 | G8: 0 | H8: 1 | I8: 0 | J8: 1 | K8: 1 | L8: 1 | M8: 0 | N8: 0 | O8: 0 | P8: 1 | Q8: 1 | R8: 1 | S8: 1 | T8: 1 | U8: 1 | V8: =SUM(B8:U8) -> 15
A9: 1 | B9: 1 | C9: 0 | D9: 1 | E9: 1 | F9: 0 | G9: 1 | H9: 1 | I9: 1 | J9: 1 | K9: 0 | L9: 1 | M9: 0 | N9: 1 | O9: 1 | P9: 1 | Q9: 0 | R9: 1 | S9: 1 | T9: 1 | U9: 0 | V9: =SUM(B9:U9) -> 14
A10: 9 | B10: 1 | C10: 0 | D10: 1 | E10: 1 | F10: 0 | G10: 1 | H10: 0 | I10: 1 | J10: 1 | K10: 0 | L10: 1 | M10: 0 | N10: 1 | O10: 1 | P10: 1 | Q10: 1 | R10: 1 | S10: 1 | T10: 1 | U10: 0 | V10: =SUM(B10:U10) -> 14
A11: 3 | B11: 1 | C11: 1 | D11: 1 | E11: 1 | F11: 1 | G11: 1 | H11: 0 | I11: 0 | J11: 1 | K11: 0 | L11: 1 | M11: 0 | N11: 1 | O11: 1 | P11: 1 | Q11: 0 | R11: 1 | S11: 0 | T11: 1 | U11: 0 | V11: =SUM(B11:U11) -> 13
A12: 20 | B12: 1 | C12: 1 | D12: 0 | E12: 1 | F12: 0 | G12: 0 | H12: 1 | I12: 1 | J12: 1 | K12: 0 | L12: 1 | M12: 0 | N12: 1 | O12: 1 | P12: 1 | Q12: 0 | R12: 1 | S12: 1 | T12: 0 | U12: 1 | V12: =SUM(B12:U12) -> 13
A13: 26 | B13: 1 | C13: 1 | D13: 1 | E13: 1 | F13: 0 | G13: 1 | H13: 1 | I13: 0 | J13: 0 | K13: 1 | L13: 1 | M13: 0 | N13: 0 | O13: 1 | P13: 1 | Q13: 0 | R13: 1 | S13: 0 | T13: 1 | U13: 1 | V13: =SUM(B13:U13) -> 13
A14: 30 | B14: 1 | C14: 1 | D14: 1 | E14: 0 | F14: 1 | G14: 0 | H14: 0 | I14: 1 | J14: 1 | K14: 0 | L14: 1 | M14: 0 | N14: 0 | O14: 1 | P14: 1 | Q14: 1 | R14: 0 | S14: 1 | T14: 1 | U14: 1 | V14: =SUM(B14:U14) -> 13
A15: 21 | B15: 1 | C15: 1 | D15: 0 | E15: 0 | F15: 1 | G15: 0 | H15: 1 | I15: 1 | J15: 1 | K15: 0 | L15: 1 | M15: 0 | N15: 1 | O15: 0 | P15: 1 | Q15: 0 | R15: 0 | S15: 1 | T15: 1 | U15: 1 | V15: =SUM(B15:U15) -> 12
... A18: 13 | B18: 1 | C18: 1 | D18: 1 | E18: 1 | F18: 1 | G18: 1 | H18: 1 | I18: 0 | J18: 1 | K18: 0 | L18: 0 | M18: 0 | N18: 0 | O18: 1 | P18: 1 | Q18: 0 | R18: 0 | S18: 0 | T18: 0 | U18: 0 | V18: =SUM(B18:U18) -> 10
A19: Jp | B19: =SUM(B4:B18) -> 15 | C19: =SUM(C4:C18) -> 12 | D19: =SUM(D4:D18) -> 12 | E19: =SUM(E4:E18) -> 13 | F19: =SUM(F4:F18) -> 11 | G19: =SUM(G4:G18) -> 9 | H19: =SUM(H4:H18) -> 10 | I19: =SUM(I4:I18) -> 10 | ... U19: =SUM(U4:U18) -> 9
A20: Np | B20: 15
A21: Kelompok Kurang
A22: 22 | B22: 0 | C22: 0 | D22: 1 | E22: 1 | F22: 1 | G22: 0 | H22: 0 | I22: 1 | J22: 1 | K22: 0 | L22: 1 | M22: 0 | N22: 0 | O22: 1 | P22: 0 | Q22: 0 | R22: 0 | S22: 1 | T22: 1 | U22: 0 | V22: =SUM(B22:U22) -> 9
A23: 4 | B23: 0 | C23: 0 | D23: 1 | E23: 0 | F23: 0 | G23: 1 | H23: 0 | I23: 1 | J23: 0 | K23: 1 | L23: 0 | M23: 1 | N23: 0 | O23: 1 | P23: 1 | Q23: 0 | R23: 0 | S23: 1 | T23: 0 | U23: 0 | V23: =SUM(B23:U23) -> 8
A24: 6 | B24: 1 | C24: 1 | D24: 1 | E24: 1 | F24: 0 | G24: 0 | H24: 1 | I24: 0 | J24: 0 | K24: 0 | L24: 1 | M24: 1 | N24: 0 | O24: 0 | P24: 0 | Q24: 0 | R24: 0 | S24: 0 | T24: 1 | U24: 0 | V24: =SUM(B24:U24) -> 8
A25: 8 | B25: 0 | C25: 0 | D25: 0 | E25: 0 | F25: 0 | G25: 1 | H25: 1 | I25: 0 | J25: 0 | K25: 1 | L25: 0 | M25: 0 | N25: 0 | O25: 0 | P25: 1 | Q25: 1 | R25: 0 | S25: 1 | T25: 1 | U25: 1 | V25: =SUM(B25:U25) -> 8
A26: 10 | B26: 0 | C26: 0 | D26: 1 | E26: 1 | F26: 0 | G26: 0 | H26: 0 | I26: 1 | J26: 1 | K26: 0 | L26: 1 | M26: 0 | N26: 0 | O26: 0 | P26: 0 | Q26: 0 | R26: 0 | S26: 1 | T26: 1 | U26: 1 | V26: =SUM(B26:U26) -> 8
A27: 5 | B27: 0 | C27: 0 | D27: 0 | E27: 0 | F27: 0 | G27: 0 | H27: 1 | I27: 1 | J27: 0 | K27: 1 | L27: 0 | M27: 0 | N27: 0 | O27: 0 | P27: 1 | Q27: 0 | R27: 0 | S27: 1 | T27: 1 | U27: 1 | V27: =SUM(B27:U27) -> 7
A28: 12 | B28: 1 | C28: 1 | D28: 1 | E28: 1 | F28: 0 | G28: 1 | H28: 0 | I28: 0 | J28: 0 | K28: 0 | L28: 0 | M28: 0 | N28: 0 | O28: 0 | P28: 0 | Q28: 1 | R28: 0 | S28: 0 | T28: 1 | U28: 0 | V28: =SUM(B28:U28) -> 7
A29: 15 | B29: 0 | C29: 0 | D29: 0 | E29: 1 | F29: 1 | G29: 0 | H29: 0 | I29: 0 | J29: 1 | K29: 0 | L29: 1 | M29: 0 | N29: 0 | O29: 0 | P29: 1 | Q29: 0 | R29: 0 | S29: 1 | T29: 1 | U29: 0 | V29: =SUM(B29:U29) -> 7
A30: 17 | B30: 0 | C30: 0 | D30: 0 | E30: 0 | F30: 0 | G30: 1 | H30: 1 | I30: 1 | J30: 0 | K30: 1 | L30: 0 | M30: 0 | N30: 0 | O30: 0 | P30: 1 | Q30: 0 | R30: 1 | S30: 0 | T30: 1 | U30: 0 | V30: =SUM(B30:U30) -> 7
A31: 23 | B31: 1 | C31: 1 | D31: 1 | E31: 0 | F31: 0 | G31: 0 | H31: 1 | I31: 0 | J31: 1 | K31: 0 | L31: 1 | M31: 0 | N31: 0 | O31: 0 | P31: 0 | Q31: 0 | R31: 0 | S31: 1 | T31: 0 | U31: 0 | V31: =SUM(B31:U31) -> 7
A32: 27 | B32: 0 | C32: 0 | D32: 0 | E32: 1 | F32: 0 | G32: 0 | H32: 0 | I32: 1 | J32: 0 | K32: 1 | L32: 0 | M32: 0 | N32: 0 | O32: 0 | P32: 1 | Q32: 0 | R32: 0 | S32: 1 | T32: 1 | U32: 1 | V32: =SUM(B32:U32) -> 7
A33: 28 | B33: 0 | C33: 0 | D33: 1 | E33: 0 | F33: 1 | G33: 0 | H33: 0 | I33: 1 | J33: 1 | K33: 0 | L33: 1 | M33: 0 | N33: 0 | O33: 1 | P33: 0 | Q33: 0 | R33: 0 | S33: 1 | T33: 0 | U33: 0 | V33: =SUM(B33:U33) -> 7
... A36: 11 | B36: 1 | C36: 0 | D36: 0 | E36: 0 | F36: 0 | G36: 0 | H36: 0 | I36: 0 | J36: 1 | K36: 0 | L36: 0 | M36: 0 | N36: 0 | O36: 1 | P36: 0 | Q36: 0 | R36: 1 | S36: 1 | T36: 0 | U36: 0 | V36: =SUM(B36:U36) -> 5
A37: Jk | B37: =SUM(B22:B36) -> 6 | C37: =SUM(C22:C36) -> 4 | D37: =SUM(D22:D36) -> 7 | E37: =SUM(E22:E36) -> 7 | F37: =SUM(F22:F36) -> 3 | G37: =SUM(G22:G36) -> 5 | H37: =SUM(H22:H36) -> 5 | I37: =SUM(I22:I36) -> 7 | ... U37: =SUM(U22:U36) -> 4
A38: Nk | B38: 15
A39: DP | B39: =(B19/15)-(B37/15) -> 0.6 | C39: =(C19/15)-(C37/15) -> 0.53333333 | D39: =(D19/15)-(D37/15) -> 0.33333333 | E39: =(E19/15)-(E37/15) -> 0.4 | F39: =(F19/15)-(F37/15) -> 0.53333333 | G39: =(G19/15)-(G37/15) -> 0.26666667 | H39: =(H19/15)-(H37/15) -> 0.33333333 | I39: =(I19/15)-(I37/15) -> 0.2 | ... U39: =(U19/15)-(U37/15) -> 0.33333333
A40: Kriteria | B40: =IF(B39>=0.4,"Baik Sekali",IF(B39>=0.3,"Baik",IF(B39>=0.2,"Sedang",IF(B39>=0.01,"Kurang",IF(B39<0.01,"Buruk"))))) -> Baik Sekali | C40: =IF(C39>=0.4,"Baik Sekali",IF(C39>=0.3,"Baik",IF(C39>=0.2,"Sedang",IF(C39>=0.01,"Kurang",IF(C39<0.01,"Buruk"))))) -> Baik Sekali | D40: =IF(D39>=0.4,"Baik Sekali",IF(D39>=0.3,"Baik",IF(D39>=0.2,"Sedang",IF(D39>=0.01,"Kurang",IF(D39<0.01,"Buruk"))))) -> Baik | E40: =IF(E39>=0.4,"Baik Sekali",IF(E39>=0.3,"Baik",IF(E39>=0.2,"Sedang",IF(E39>=0.01,"Kurang",IF(E39<0.01,"Buruk"))))) -> Baik Sekali | F40: =IF(F39>=0.4,"Baik Sekali",IF(F39>=0.3,"Baik",IF(F39>=0.2,"Sedang",IF(F39>=0.01,"Kurang",IF(F39<0.01,"Buruk"))))) -> Baik Sekali | G40: =IF(G39>=0.4,"Baik Sekali",IF(G39>=0.3,"Baik",IF(G39>=0.2,"Sedang",IF(G39>=0.01,"Kurang",IF(G39<0.01,"Buruk"))))) -> Sedang | H40: =IF(H39>=0.4,"Baik Sekali",IF(H39>=0.3,"Baik",IF(H39>=0.2,"Sedang",IF(H39>=0.01,"Kurang",IF(H39<0.01,"Buruk"))))) -> Baik | I40: =IF(I39>=0.4,"Baik Sekali",IF(I39>=0.3,"Baik",IF(I39>=0.2,"Sedang",IF(I39>=0.01,"Kurang",IF(I39<0.01,"Buruk"))))) -> Sedang | ... U40: =IF(U39>=0.4,"Baik Sekali",IF(U39>=0.3,"Baik",IF(U39>=0.2,"Sedang",IF(U39>=0.01,"Kurang",IF(U39<0.01,"Buruk"))))) -> Baik
B41: 1 | C41: 2 | D41: 3 | E41: 4 | F41: 5 | G41: 6 | H41: 7 | I41: 8 | J41: 9 | K41: 10 | L41: 11 | M41: 12 | N41: 13 | O41: 14 | P41: 15 | Q41: 16 | R41: 17 | S41: 18 | T41: 19 | U41: 20
A44: Testee | B44: Butir Soal | V44: Skor Total
B45: 1 | C45: 2 | D45: 3 | E45: 4 | F45: 5 | G45: 6 | H45: 7 | I45: 8 | J45: 9 | K45: 10 | L45: 11 | M45: 12 | N45: 13 | O45: 14 | P45: 15 | Q45: 16 | R45: 17 | S45: 18 | T45: 19 | U45: 20 | V45: X
A46: 1 | B46: 1 | C46: 0 | D46: 1 | E46: 1 | F46: 0 | G46: 1 | H46: 1 | I46: 1 | J46: 1 | K46: 0 | L46: 1 | M46: 0 | N46: 1 | O46: 1 | P46: 1 | Q46: 0 | R46: 1 | S46: 1 | T46: 1 | U46: 0 | V46: =SUM(B46:U46) -> 14
...

Sheet (03) Indeks Kesukaran
A2: Testee | B2: Butir Soal | V2: Skor Total
B3: 1 | C3: 2 | D3: 3 | E3: 4 | F3: 5 | G3: 6 | H3: 7 | I3: 8 | J3: 9 | K3: 10 | L3: 11 | M3: 12 | N3: 13 | O3: 14 | P3: 15 | Q3: 16 | R3: 17 | S3: 18 | T3: 19 | U3: 20
A4: 1 | B4: 1 | C4: 0 | D4: 1 | E4: 1 | F4: 0 | G4: 1 | H4: 1 | I4: 1 | J4: 1 | K4: 0 | L4: 1 | M4: 0 | N4: 1 | O4: 1 | P4: 1 | Q4: 0 | R4: 1 | S4: 1 | T4: 1 | U4: 0 | V4: =SUM(B4:U4) -> 14
A5: 2 | B5: 1 | C5: 0 | D5: 0 | E5: 1 | F5: 0 | G5: 0 | H5: 0 | I5: 0 | J5: 1 | K5: 0 | L5: 0 | M5: 0 | N5: 0 | O5: 1 | P5: 1 | Q5: 0 | R5: 0 | S5: 1 | T5: 0 | U5: 0 | V5: =SUM(B5:U5) -> 6
A6: 3 | B6: 1 | C6: 1 | D6: 1 | E6: 1 | F6: 1 | G6: 1 | H6: 0 | I6: 0 | J6: 1 | K6: 0 | L6: 1 | M6: 0 | N6: 1 | O6: 1 | P6: 1 | Q6: 0 | R6: 1 | S6: 0 | T6: 1 | U6: 0 | V6: =SUM(B6:U6) -> 13
A7: 4 | B7: 0 | C7: 0 | D7: 1 | E7: 0 | F7: 0 | G7: 1 | H7: 0 | I7: 1 | J7: 0 | K7: 1 | L7: 0 | M7: 1 | N7: 0 | O7: 1 | P7: 1 | Q7: 0 | R7: 0 | S7: 1 | T7: 0 | U7: 0 | V7: =SUM(B7:U7) -> 8
A8: 5 | B8: 0 | C8: 0 | D8: 0 | E8: 0 | F8: 0 | G8: 0 | H8: 1 | I8: 1 | J8: 0 | K8: 1 | L8: 0 | M8: 0 | N8: 0 | O8: 0 | P8: 1 | Q8: 0 | R8: 0 | S8: 1 | T8: 1 | U8: 1 | V8: =SUM(B8:U8) -> 7
A9: 6 | B9: 1 | C9: 1 | D9: 1 | E9: 1 | F9: 0 | G9: 0 | H9: 1 | I9: 0 | J9: 0 | K9: 0 | L9: 1 | M9: 1 | N9: 0 | O9: 0 | P9: 0 | Q9: 0 | R9: 0 | S9: 0 | T9: 1 | U9: 0 | V9: =SUM(B9:U9) -> 8
A10: 7 | B10: 1 | C10: 1 | D10: 1 | E10: 1 | F10: 1 | G10: 1 | H10: 1 | I10: 1 | J10: 1 | K10: 1 | L10: 1 | M10: 1 | N10: 1 | O10: 1 | P10: 1 | Q10: 1 | R10: 0 | S10: 1 | T10: 1 | U10: 1 | V10: =SUM(B10:U10) -> 19
A11: 8 | B11: 0 | C11: 0 | D11: 0 | E11: 0 | F11: 0 | G11: 1 | H11: 1 | I11: 0 | J11: 0 | K11: 1 | L11: 0 | M11: 0 | N11: 0 | O11: 0 | P11: 1 | Q11: 1 | R11: 0 | S11: 1 | T11: 1 | U11: 1 | V11: =SUM(B11:U11) -> 8
A12: 9 | B12: 1 | C12: 0 | D12: 1 | E12: 1 | F12: 0 | G12: 1 | H12: 0 | I12: 1 | J12: 1 | K12: 0 | L12: 1 | M12: 0 | N12: 1 | O12: 1 | P12: 1 | Q12: 1 | R12: 1 | S12: 1 | T12: 1 | U12: 0 | V12: =SUM(B12:U12) -> 14
A13: 10 | B13: 0 | C13: 0 | D13: 1 | E13: 1 | F13: 0 | G13: 0 | H13: 0 | I13: 1 | J13: 1 | K13: 0 | L13: 1 | M13: 0 | N13: 0 | O13: 0 | P13: 0 | Q13: 0 | R13: 0 | S13: 1 | T13: 1 | U13: 1 | V13: =SUM(B13:U13) -> 8
A14: 11 | B14: 1 | C14: 0 | D14: 0 | E14: 0 | F14: 0 | G14: 0 | H14: 0 | I14: 0 | J14: 1 | K14: 0 | L14: 0 | M14: 0 | N14: 0 | O14: 1 | P14: 0 | Q14: 0 | R14: 1 | S14: 1 | T14: 0 | U14: 0 | V14: =SUM(B14:U14) -> 5
A15: 12 | B15: 1 | C15: 1 | D15: 1 | E15: 1 | F15: 0 | G15: 1 | H15: 0 | I15: 0 | J15: 0 | K15: 0 | L15: 0 | M15: 0 | N15: 0 | O15: 0 | P15: 0 | Q15: 1 | R15: 0 | S15: 0 | T15: 1 | U15: 0 | V15: =SUM(B15:U15) -> 7
... A33: 30 | B33: 1 | C33: 1 | D33: 1 | E33: 0 | F33: 1 | G33: 0 | H33: 0 | I33: 1 | J33: 1 | K33: 0 | L33: 1 | M33: 0 | N33: 0 | O33: 1 | P33: 1 | Q33: 1 | R33: 0 | S33: 1 | T33: 1 | U33: 1 | V33: =SUM(B33:U33) -> 13
A34: B | B34: =SUM(B4:B33) -> 21 | C34: =SUM(C4:C33) -> 16 | D34: =SUM(D4:D33) -> 19 | E34: =SUM(E4:E33) -> 20 | F34: =SUM(F4:F33) -> 14 | G34: =SUM(G4:G33) -> 14 | H34: =SUM(H4:H33) -> 15 | I34: =SUM(I4:I33) -> 17 | ... U34: =SUM(U4:U33) -> 13
A35: P | B35: =B34/30 -> 0.7 | C35: =C34/30 -> 0.53333333 | D35: =D34/30 -> 0.63333333 | E35: =E34/30 -> 0.66666667 | F35: =F34/30 -> 0.46666667 | G35: =G34/30 -> 0.46666667 | H35: =H34/30 -> 0.5 | I35: =I34/30 -> 0.56666667 | ... U35: =U34/30 -> 0.43333333
A36: Kriteria | B36: =IF(B35<=0.3,"Sulit",IF(B35<=0.7,"Sedang",IF(B35<=1,"Mudah"))) -> Sedang | C36: =IF(C35<=0.3,"Sulit",IF(C35<=0.7,"Sedang",IF(C35<=1,"Mudah"))) -> Sedang | D36: =IF(D35<=0.3,"Sulit",IF(D35<=0.7,"Sedang",IF(D35<=1,"Mudah"))) -> Sedang | E36: =IF(E35<=0.3,"Sulit",IF(E35<=0.7,"Sedang",IF(E35<=1,"Mudah"))) -> Sedang | F36: =IF(F35<=0.3,"Sulit",IF(F35<=0.7,"Sedang",IF(F35<=1,"Mudah"))) -> Sedang | G36: =IF(G35<=0.3,"Sulit",IF(G35<=0.7,"Sedang",IF(G35<=1,"Mudah"))) -> Sedang | H36: =IF(H35<=0.3,"Sulit",IF(H35<=0.7,"Sedang",IF(H35<=1,"Mudah"))) -> Sedang | I36: =IF(I35<=0.3,"Sulit",IF(I35<=0.7,"Sedang",IF(I35<=1,"Mudah"))) -> Sedang | ... U36: =IF(U35<=0.3,"Sulit",IF(U35<=0.7,"Sedang",IF(U35<=1,"Mudah"))) -> Sedang
B37: 1 | C37: 2 | D37: 3 | E37: 4 | F37: 5 | G37: 6 | H37: 7 | I37: 8 | J37: 9 | K37: 10 | L37: 11 | M37: 12 | N37: 13 | O37: 14 | P37: 15 | Q37: 16 | R37: 17 | S37: 18 | T37: 19 | U37: 20

Sheet (01) Distraktor
A2: No Soal | B2: 1 | C2: 2 | D2: 3 | E2: 4 | F2: 5 | G2: 6 | H2: 7 | I2: 8 | J2: 9 | K2: 10 | L2: 11 | M2: 12 | N2: 13 | O2: 14 | P2: 15 | Q2: 16 | R2: 17 | S2: 18 | T2: 19 | U2: 20
A3: Jawaban | B3: A | C3: B | D3: C | E3: E | F3: A | G3: B | H3: D | I3: A | J3: C | K3: A | L3: C | M3: D | N3: C | O3: A | P3: A | Q3: D | R3: C | S3: B | T3: A | U3: D
A4: 1 | B4: A | C4: B | D4: C | E4: E | F4: A | G4: B | H4: D | I4: A | J4: C | K4: B | L4: C | M4: A | N4: C | O4: D | P4: B | Q4: C | R4: C | S4: B | T4: B | U4: A
A5: 2 | B5: A | C5: B | D5: C | E5: E | F5: A | G5: B | H5: D | I5: B | J5: C | K5: B | L5: C | M5: C | N5: C | O5: D | P5: B | Q5: A | R5: C | S5: B | T5: B | U5: B
A6: 3 | B6: A | C6: B | D6: C | E6: E | F6: A | G6: B | H6: E | I6: A | J6: C | K6: A | L6: C | M6: A | N6: C | O6: D | P6: B | Q6: D | R6: C | S6: B | T6: D | U6: A
A7: 4 | B7: B | C7: C | D7: D | E7: D | F7: A | G7: B | H7: E | I7: B | J7: A | K7: A | L7: B | M7: C | N7: E | O7: A | P7: B | Q7: C | R7: B | S7: A | T7: B | U7: B
A8: 5 | B8: A | C8: A | D8: D | E8: D | F8: A | G8: B | H8: C | I8: A | J8: D | K8: A | L8: B | M8: A | N8: B | O8: A | P8: A | Q8: D | R8: B | S8: A | T8: E | U8: D
A9: 6 | B9: A | C9: B | D9: C | E9: B | F9: A | G9: B | H9: C | I9: A | J9: B | K9: B | L9: A | M9: A | N9: C | O9: B | P9: B | Q9: C | R9: A | S9: B | T9: D | U9: A
A10: 7 | B10: A | C10: B | D10: C | E10: E | F10: A | G10: B | H10: D | I10: A | J10: B | K10: B | L10: C | M10: B | N10: C | O10: A | P10: A | Q10: D | R10: B | S10: B | T10: D | U10: D
A11: 8 | B11: A | C11: C | D11: D | E11: D | F11: A | G11: B | H11: E | I11: B | J11: D | K11: A | L11: A | M11: A | N11: E | O11: A | P11: A | Q11: A | R11: E | S11: D | T11: B | U11: D
A12: 9 | B12: A | C12: B | D12: C | E12: E | F12: A | G12: B | H12: D | I12: A | J12: C | K12: B | L12: C | M12: E | N12: C | O12: D | P12: A | Q12: A | R12: C | S12: B | T12: A | U12: A
A13: 10 | B13: A | C13: B | D13: C | E13: E | F13: A | G13: B | H13: D | I13: A | J13: C | K13: B | L13: C | M13: A | N13: C | O13: B | P13: A | Q13: D | R13: C | S13: B | T13: A | U13: D
A14: 11 | B14: A | C14: B | D14: C | E14: E | F14: A | G14: B | H14: D | I14: B | J14: C | K14: B | L14: C | M14: A | N14: C | O14: B | P14: B | Q14: D | R14: C | S14: B | T14: B | U14: A
A15: 12 | B15: B | C15: B | D15: C | E15: C | F15: A | G15: B | H15: E | I15: B | J15: A | K15: A | L15: B | M15: A | N15: E | O15: D | P15: A | Q15: C | R15: E | S15: A | T15: D | U15: B
... A33: 30 | B33: A | C33: B | D33: C | E33: E | F33: B | G33: B | H33: D | I33: B | J33: C | K33: B | L33: C | M33: A | N33: C | O33: B | P33: A | Q33: D | R33: C | S33: B | T33: B | U33: B
A35: TOTAL JAWABAN TIAP PILIHAN
A36: Butir Soal | B36: 1 | C36: 2 | D36: 3 | E36: 4 | F36: 5 | G36: 6 | H36: 7 | I36: 8 | J36: 9 | K36: 10 | L36: 11 | M36: 12 | N36: 13 | O36: 14 | P36: 15 | Q36: 16 | R36: 17 | S36: 18 | T36: 19 | U36: 20
A37: A | B37: =COUNTIF(B4:B33,"A") -> 28 | C37: =COUNTIF(C4:C33,"A") -> 1 | D37: =COUNTIF(D4:D33,"A") -> 0 | E37: =COUNTIF(E4:E33,"A") -> 0 | F37: =COUNTIF(F4:F33,"A") -> 28 | G37: =COUNTIF(G4:G33,"A") -> 0 | H37: =COUNTIF(H4:H33,"A") -> 0 | I37: =COUNTIF(I4:I33,"A") -> 18 | ... U37: =COUNTIF(U4:U33,"A") -> 7
